BEGIN:VCALENDAR
VERSION:2.0
PRODID:-//hacksw/handcal//NONSGML v1.0//EN
BEGIN:VEVENT
UID:05d0806eb63b50f5534a2ecf6bd663c9
DTSTAMP:20260420T223157Z

DTSTART:20210716T160000
DTEND:20210716T190000
SUMMARY:Pincher Creek Farmers' Market - 16.07.2021
DESCRIPTION:We are an Accredited Government of Alberta Farmers Market in Pincher Creek, Alberta.\nOur market runs on Fridays from Fathers Day weekend to Thanksgiving.\nYou'll find us at the Recreation Centre, 895 Main Street.

X-ALT-DESC;FMTTYPE=text/html:<!DOCTYPE HTML PUBLIC "-//W3C//DTD HTML 3.2//EN">\n<HTML>\n<HEAD>\n<META NAME="Generator" CONTENT="MS Exchange Server version 08.00.0681.000">\n<TITLE></TITLE>\n</HEAD>\n<BODY>\n<!-- Converted from text/rtf format -->\n\nWe are an Accredited Government of Alberta Farmers Market in Pincher Creek, Alberta.<br />Our market runs on Fridays from Fathers Day weekend to Thanksgiving.<br />You'll find us at the Recreation Centre, 895 Main Street.\n\n</BODY>\n</HTML>

LOCATION:895 Main St, Pincher Creek, AB T0K 1W0, Canada
END:VEVENT

END:VCALENDAR
