BEGIN:VCALENDAR
VERSION:2.0
PRODID:-//hacksw/handcal//NONSGML v1.0//EN
BEGIN:VEVENT
UID:ba49ae682fffec35bd82664c2e6df8a7
DTSTAMP:20260421T000146Z

DTSTART:20210606T113000
DTEND:20210606T150000
SUMMARY:Alberta Beach Farmers Market 
DESCRIPTION:When you buy in Alberta Beach, you receive some of the best and freshest food and produce available, as well some of the most unique items from local vendors. By shopping locally, you are supporting the community of Alberta Beach and the local economy.\n\nWHEN:\n\nThe Farmers' Markets run Sundays, starting on Mother's Day in May and running until the last Sunday in  September\n\n \n\nWHERE:\n\nAgliplex Hall 4811 - 47 Ave. Alberta Beach, AB\n\n \n\nTIME:\n\n11:30 - 3 PM

X-ALT-DESC;FMTTYPE=text/html:<!DOCTYPE HTML PUBLIC "-//W3C//DTD HTML 3.2//EN">\n<HTML>\n<HEAD>\n<META NAME="Generator" CONTENT="MS Exchange Server version 08.00.0681.000">\n<TITLE></TITLE>\n</HEAD>\n<BODY>\n<!-- Converted from text/rtf format -->\n\nWhen you buy in Alberta Beach, you receive some of the best and freshest food and produce available, as well some of the most unique items from local vendors. By shopping locally, you are supporting the community of Alberta Beach and the local economy.<br /><br />WHEN:<br /><br />The Farmers' Markets run Sundays, starting on Mother's Day in May and running until the last Sunday in  September<br /><br /> <br /><br />WHERE:<br /><br />Agliplex Hall 4811 - 47 Ave. Alberta Beach, AB<br /><br /> <br /><br />TIME:<br /><br />11:30 - 3 PM\n\n</BODY>\n</HTML>

LOCATION:4811 47 Ave, Alberta Beach, AB T0E 0A0, Canada
END:VEVENT

END:VCALENDAR
