BEGIN:VCALENDAR
VERSION:2.0
PRODID:-//hacksw/handcal//NONSGML v1.0//EN
BEGIN:VEVENT
UID:f8745576e6e48729b752a849bd519d10
DTSTAMP:20260419T185214Z

DTSTART:20250719T000000
DTEND:20250719T235959
SUMMARY:Paddle into History at Lock & Paddle 2025!
DESCRIPTION:Peterborough, Ontario - Parks Canada is thrilled to invite paddlers and outdoor enthusiasts to one of the most unique paddling events in the country — Lock & Paddle 2025! Join us on Saturday, July 19, 2025, anytime from 12:00 p.m. to 4:00 p.m. at the iconic Peterborough Lift Lock on the Trent-Severn Waterway National Historic Site for a mass paddling adventure like no other.\n\nTo celebrate Canada’s Parks Day, canoeists and kayakers will come together for a signature lockage experience on the world’s tallest hydraulic lift lock. Witness breathtaking views from 65 feet up and feel the community spirit as paddlers lock through together, surrounded by the sounds of live entertainment, laughter, and summertime excitement.\n\nLock & Paddle 2025 is a free, family-friendly event open to all experience levels. Whether you’re a seasoned paddler or a beginner, we welcome you to join in on this unforgettable ride.\n\nEvent Highlights\n\nGroup paddling lockages at the Peterborough Lift Lock\nLive entertainment and activities from 12:00 p.m. – 4:00 p.m.\nFree lockage for paddlers across the Trent-Severn Waterway for a limited time this summer\nImportant Details\n\nNo registration required.\nStand-up paddleboards and inflatable vessels are not permitted.\nFor safety reasons, and the comfort of fellow paddlers, we recommend that pets stay on land, rather than in your paddlecraft.\nMandatory safety gear required: worn PFDs, sound signaling device, heaving line, bailer, watertight flashlight.\nPlan ahead by using nearby public lots or arranging for drop-offs. See event details online for parking options.\nA limited number of parking spaces will be reserved at the Peterborough Lift Lock Visitor Centre for media who confirm their attendance in advance. Carpooling is encouraged.\nThis is a rain-or-shine event — dress for the weather, and don’t forget your sunscreen and a water bottle!\nOther community organizations are holding events during this time to partake in the festivities.\nDon’t have a canoe or kayak? No problem — local rental options are available through Wild Rock Outfitters, Liftlock Paddle Co, and more.\n\nWe look forward to seeing you on the water for a one-of-a-kind Canadian experience this Parks Day!\n\n

X-ALT-DESC;FMTTYPE=text/html:<!DOCTYPE HTML PUBLIC "-//W3C//DTD HTML 3.2//EN">\n<HTML>\n<HEAD>\n<META NAME="Generator" CONTENT="MS Exchange Server version 08.00.0681.000">\n<TITLE></TITLE>\n</HEAD>\n<BODY>\n<!-- Converted from text/rtf format -->\n\nPeterborough, Ontario - Parks Canada is thrilled to invite paddlers and outdoor enthusiasts to one of the most unique paddling events in the country — Lock & Paddle 2025! Join us on Saturday, July 19, 2025, anytime from 12:00 p.m. to 4:00 p.m. at the iconic Peterborough Lift Lock on the Trent-Severn Waterway National Historic Site for a mass paddling adventure like no other.<br /><br />To celebrate Canada’s Parks Day, canoeists and kayakers will come together for a signature lockage experience on the world’s tallest hydraulic lift lock. Witness breathtaking views from 65 feet up and feel the community spirit as paddlers lock through together, surrounded by the sounds of live entertainment, laughter, and summertime excitement.<br /><br />Lock & Paddle 2025 is a free, family-friendly event open to all experience levels. Whether you’re a seasoned paddler or a beginner, we welcome you to join in on this unforgettable ride.<br /><br />Event Highlights<br /><br />Group paddling lockages at the Peterborough Lift Lock<br />Live entertainment and activities from 12:00 p.m. – 4:00 p.m.<br />Free lockage for paddlers across the Trent-Severn Waterway for a limited time this summer<br />Important Details<br /><br />No registration required.<br />Stand-up paddleboards and inflatable vessels are not permitted.<br />For safety reasons, and the comfort of fellow paddlers, we recommend that pets stay on land, rather than in your paddlecraft.<br />Mandatory safety gear required: worn PFDs, sound signaling device, heaving line, bailer, watertight flashlight.<br />Plan ahead by using nearby public lots or arranging for drop-offs. See event details online for parking options.<br />A limited number of parking spaces will be reserved at the Peterborough Lift Lock Visitor Centre for media who confirm their attendance in advance. Carpooling is encouraged.<br />This is a rain-or-shine event — dress for the weather, and don’t forget your sunscreen and a water bottle!<br />Other community organizations are holding events during this time to partake in the festivities.<br />Don’t have a canoe or kayak? No problem — local rental options are available through Wild Rock Outfitters, Liftlock Paddle Co, and more.<br /><br />We look forward to seeing you on the water for a one-of-a-kind Canadian experience this Parks Day!<br /><br />\n\n</BODY>\n</HTML>

LOCATION:Peterborough, ON, Canada
END:VEVENT

END:VCALENDAR
