BEGIN:VCALENDAR
VERSION:2.0
PRODID:-//hacksw/handcal//NONSGML v1.0//EN
BEGIN:VEVENT
UID:57b22665d175b43481915ec7f6f4d103
DTSTAMP:20260424T023849Z

DTSTART:20250627T100000
DTEND:20250628T140000
SUMMARY:Painting for Rocky the Rock Snake - Sarnia Ontario Canada
DESCRIPTION:Paint a Rock, Make History: Join Rocky the Rock Snake’s Community Art Project in Sarnia\n\nGet ready to unleash your creativity and be part of a world-record-breaking community art project! \nOn Friday, June 27, and Saturday, June 28, from 10 AM to 2 PM, head over to the Canadian Tire at Lambton Mall in Sarnia, Ontario, for a free, family-friendly rock painting event. This exciting initiative supports Rocky the Rock Snake, \na beloved community art installation stretching along the St. Clair River waterfront in Point Edward, near the iconic Blue Water Bridge.\n\nEvent Highlights:\nFree Rock Painting: All supplies provided—no need to bring anything!\nSurprises and Prizes: Enjoy fun giveaways throughout the day.\nShare Your Art: Take photos of your painted rocks and share them on Rocky's Facebook page: Rocky the Rock Snake Facebook Group.\nSupport a Great Cause: Donations are welcome, with all proceeds going to Jumpstart, a Canadian charity helping kids overcome financial \nbarriers to sports and recreation.\n\nWhy Participate?\nRocky the Rock Snake began with just 13 painted stones in June 2023 and has since grown to over 11,000 rocks, thanks to the community's \nenthusiasm . \nThe goal is to reach 23,000 rocks to set a new Guinness World Record. \nBy adding your unique creation, you contribute to this monumental community effort and help Rocky slither closer to the record.\n\n\nLocation:\nCanadian Tire, Lambton Mall\nSarnia, Ontario, Canada\n\nDates and Times:\nFriday, June 27 & Saturday, June 28\n10:00 AM – 2:00 PM\n\nJoin the Movement:\nDon't miss this chance to be part of a vibrant community art project that brings joy and creativity to Sarnia's waterfront. \nWhether you're a seasoned artist or a first-time painter, your contribution helps Rocky grow and brings the community one step closer \nto making history.\n\nFor more information and to stay updated, visit the Rocky the Rock Snake Facebook Group.\n\nLet's come together to paint, share, and make a difference—one rock at a time!\n\nP.S. Tag me on Instagram @canadian_cary_adventureseeker with a photo if you see the ehCanadaTravel.com Rock!!!\n\n#rockytherocksnakesarnia\n#paintedrocks\n#canadiantiresarnia\n#LambtonMallSarnia\n#PointEdward\n#SarniaOntario\n#canadaadventureseeker\n\n\n\n\n\n\n\n\n\n\n\n

X-ALT-DESC;FMTTYPE=text/html:<!DOCTYPE HTML PUBLIC "-//W3C//DTD HTML 3.2//EN">\n<HTML>\n<HEAD>\n<META NAME="Generator" CONTENT="MS Exchange Server version 08.00.0681.000">\n<TITLE></TITLE>\n</HEAD>\n<BODY>\n<!-- Converted from text/rtf format -->\n\nPaint a Rock, Make History: Join Rocky the Rock Snake’s Community Art Project in Sarnia<br /><br />Get ready to unleash your creativity and be part of a world-record-breaking community art project! <br />On Friday, June 27, and Saturday, June 28, from 10 AM to 2 PM, head over to the Canadian Tire at Lambton Mall in Sarnia, Ontario, for a free, family-friendly rock painting event. This exciting initiative supports Rocky the Rock Snake, <br />a beloved community art installation stretching along the St. Clair River waterfront in Point Edward, near the iconic Blue Water Bridge.<br /><br />Event Highlights:<br />Free Rock Painting: All supplies provided—no need to bring anything!<br />Surprises and Prizes: Enjoy fun giveaways throughout the day.<br />Share Your Art: Take photos of your painted rocks and share them on Rocky's Facebook page: Rocky the Rock Snake Facebook Group.<br />Support a Great Cause: Donations are welcome, with all proceeds going to Jumpstart, a Canadian charity helping kids overcome financial <br />barriers to sports and recreation.<br /><br />Why Participate?<br />Rocky the Rock Snake began with just 13 painted stones in June 2023 and has since grown to over 11,000 rocks, thanks to the community's <br />enthusiasm . <br />The goal is to reach 23,000 rocks to set a new Guinness World Record. <br />By adding your unique creation, you contribute to this monumental community effort and help Rocky slither closer to the record.<br /><br /><br />Location:<br />Canadian Tire, Lambton Mall<br />Sarnia, Ontario, Canada<br /><br />Dates and Times:<br />Friday, June 27 & Saturday, June 28<br />10:00 AM – 2:00 PM<br /><br />Join the Movement:<br />Don't miss this chance to be part of a vibrant community art project that brings joy and creativity to Sarnia's waterfront. <br />Whether you're a seasoned artist or a first-time painter, your contribution helps Rocky grow and brings the community one step closer <br />to making history.<br /><br />For more information and to stay updated, visit the Rocky the Rock Snake Facebook Group.<br /><br />Let's come together to paint, share, and make a difference—one rock at a time!<br /><br />P.S. Tag me on Instagram @canadian_cary_adventureseeker with a photo if you see the ehCanadaTravel.com Rock!!!<br /><br />#rockytherocksnakesarnia<br />#paintedrocks<br />#canadiantiresarnia<br />#LambtonMallSarnia<br />#PointEdward<br />#SarniaOntario<br />#canadaadventureseeker<br /><br /><br /><br /><br /><br /><br /><br /><br /><br /><br /><br />\n\n</BODY>\n</HTML>

LOCATION:1380 London Road Unit 300, Lambton Mall, Sarnia, ON N7S 1P8, Canada
END:VEVENT

END:VCALENDAR
