BEGIN:VCALENDAR
VERSION:2.0
PRODID:-//hacksw/handcal//NONSGML v1.0//EN
BEGIN:VEVENT
UID:fd944037f302d3d29f13d171cd9c2783
DTSTAMP:20260425T140349Z

DTSTART:20250510T100000
DTEND:20250521T160000
SUMMARY:Sandhill Creek Tulip Fest 2025 - Hepworth Bruce Peninsula Ontario Canada - 10.05.2025
DESCRIPTION:The Sandhill Creek Tulip Fest 2025 will be held from Friday, May 9th, to Tuesday, May 20th, at the Sandhill Creek Farm in Hepworth, Bruce Peninsula, Ontario, Canada.\n\nSpring is in the air, so mark your calendars for the 2025 Sandhill Creek Farm Tulip Fest!\nExplore 4 acres of 350,000 plus blooming tulips and capture some incredible family\nphotos.\nTreat yourself to a bouquet to take home - Only $1.50 per stem\nPlease check the website for updates should Mother Nature change the dates of the tulips blooming.\nAdmission - Tickets available online $11.95 + taxes\nKids under 5 are FREE\n\n\n\n

X-ALT-DESC;FMTTYPE=text/html:<!DOCTYPE HTML PUBLIC "-//W3C//DTD HTML 3.2//EN">\n<HTML>\n<HEAD>\n<META NAME="Generator" CONTENT="MS Exchange Server version 08.00.0681.000">\n<TITLE></TITLE>\n</HEAD>\n<BODY>\n<!-- Converted from text/rtf format -->\n\nThe Sandhill Creek Tulip Fest 2025 will be held from Friday, May 9th, to Tuesday, May 20th, at the Sandhill Creek Farm in Hepworth, Bruce Peninsula, Ontario, Canada.<br /><br />Spring is in the air, so mark your calendars for the 2025 Sandhill Creek Farm Tulip Fest!<br />Explore 4 acres of 350,000 plus blooming tulips and capture some incredible family<br />photos.<br />Treat yourself to a bouquet to take home - Only $1.50 per stem<br />Please check the website for updates should Mother Nature change the dates of the tulips blooming.<br />Admission - Tickets available online $11.95 + taxes<br />Kids under 5 are FREE<br /><br /><br /><br />\n\n</BODY>\n</HTML>

LOCATION:262 Bruce Rd 8, Hepworth, ON N0H 2T0, Canada
END:VEVENT

END:VCALENDAR
