BEGIN:VCALENDAR
VERSION:2.0
PRODID:-//hacksw/handcal//NONSGML v1.0//EN
BEGIN:VEVENT
UID:eb716b07b988bb0dcddefe5f0cff02e2
DTSTAMP:20260424T170116Z

DTSTART:20190830T070000
DTEND:20190830T070000
SUMMARY:Open Mic Nights at Kekuli Cafe 14
DESCRIPTION:Open Mic\n \nNicola Valley Arts Council \n \npresents Open Mic Night at Kekuli Cafe in Downtown Merritt, BC, Canada. Music, spoken word, stand up, sketches, poetry and more. Featured artists every week. Come on down and enjoy some of the local talents living in the Nicola Valley.  Experience Nicola Valley Features the Kekuli Cafe Open Mic Event:  https://experiencenicolavalley.com/open-mic-nights-in-merritt-canada/\n \nFollow Us: https://www.facebook.com/OpenMicsMerritt/\n \nhttps://www.nicolavalleyartscouncil.com/\n

X-ALT-DESC;FMTTYPE=text/html:<!DOCTYPE HTML PUBLIC "-//W3C//DTD HTML 3.2//EN">\n<HTML>\n<HEAD>\n<META NAME="Generator" CONTENT="MS Exchange Server version 08.00.0681.000">\n<TITLE></TITLE>\n</HEAD>\n<BODY>\n<!-- Converted from text/rtf format -->\n\nOpen Mic<br /> <br />Nicola Valley Arts Council <br /> <br />presents Open Mic Night at Kekuli Cafe in Downtown Merritt, BC, Canada. Music, spoken word, stand up, sketches, poetry and more. Featured artists every week. Come on down and enjoy some of the local talents living in the Nicola Valley.  Experience Nicola Valley Features the Kekuli Cafe Open Mic Event:  https://experiencenicolavalley.com/open-mic-nights-in-merritt-canada/<br /> <br />Follow Us: https://www.facebook.com/OpenMicsMerritt/<br /> <br />https://www.nicolavalleyartscouncil.com/<br />\n\n</BODY>\n</HTML>

LOCATION:2051 Voght St, Merritt, BC V1K 1B8, Canada
END:VEVENT

END:VCALENDAR
