BEGIN:VCALENDAR
VERSION:2.0
PRODID:-//hacksw/handcal//NONSGML v1.0//EN
BEGIN:VEVENT
UID:f7b374270a863f8c4d4a53c3df5409fa
DTSTAMP:20260420T101557Z

DTSTART:20250221T100000
DTEND:20250223T180000
SUMMARY:The Outdoor Adventure Show - Toronto
DESCRIPTION:Canada's largest showcase of outdoor gear and adventure travel experiences in coming to TORONTO! I'm planning on heading there February 21st or 22nd, and I CAN'T WAIT!\n\nWhy? Because there are over 320 exhibitors offering the latest camping gear, paddle sports, outdoor clothing, scuba diving and adventure travel destinations.\n\nDid you Know? There are over 100 adventure presentations being offered over the course of the weekend as well!\n\nWhen: February 21-23, 2025\nWhere: International Centre, Toronto\n\nHow much? About $17 per person, or get a weekend pass for $21 

X-ALT-DESC;FMTTYPE=text/html:<!DOCTYPE HTML PUBLIC "-//W3C//DTD HTML 3.2//EN">\n<HTML>\n<HEAD>\n<META NAME="Generator" CONTENT="MS Exchange Server version 08.00.0681.000">\n<TITLE></TITLE>\n</HEAD>\n<BODY>\n<!-- Converted from text/rtf format -->\n\nCanada's largest showcase of outdoor gear and adventure travel experiences in coming to TORONTO! I'm planning on heading there February 21st or 22nd, and I CAN'T WAIT!<br /><br />Why? Because there are over 320 exhibitors offering the latest camping gear, paddle sports, outdoor clothing, scuba diving and adventure travel destinations.<br /><br />Did you Know? There are over 100 adventure presentations being offered over the course of the weekend as well!<br /><br />When: February 21-23, 2025<br />Where: International Centre, Toronto<br /><br />How much? About $17 per person, or get a weekend pass for $21 \n\n</BODY>\n</HTML>

LOCATION:6900 Airport Rd, Mississauga, ON L4V 1E8, Canada
END:VEVENT

END:VCALENDAR
