BEGIN:VCALENDAR
VERSION:2.0
PRODID:-//hacksw/handcal//NONSGML v1.0//EN
BEGIN:VEVENT
UID:9de79b51bc8b60dedbaedd9f8caf23ce
DTSTAMP:20260421T115541Z

DTSTART:20250217T120000
DTEND:20250217T140000
SUMMARY:Fun for the Family in Loyalist Township
DESCRIPTION:Join in on the fun February 17th, 2025, from 12:00 p.m. to 2:00 p.m. at the W.J. Henderson Recreation Centre for an action-packed afternoon filled with FREE activities! A day of fun and spending quality time together on Family Day!\n\nA variety of activities including:\n\nArena\n- Lorna Willis & Lynn Wyminga Sponsored Public Skate from 12:00-2:00pm\n- Canteen will be open for food purchases\n\nParking lot\n- Loyalist Emergency Services Truck Tours & Giveaways\n\nLibrary\n- Temporary Tattoo Station\n- Colouring Station \n- Lego Station\n- Bouncy Castle from Lucky Inflatables\n- Just Dance\n- Photobooth from Photobooth Kingston.

X-ALT-DESC;FMTTYPE=text/html:<!DOCTYPE HTML PUBLIC "-//W3C//DTD HTML 3.2//EN">\n<HTML>\n<HEAD>\n<META NAME="Generator" CONTENT="MS Exchange Server version 08.00.0681.000">\n<TITLE></TITLE>\n</HEAD>\n<BODY>\n<!-- Converted from text/rtf format -->\n\nJoin in on the fun February 17th, 2025, from 12:00 p.m. to 2:00 p.m. at the W.J. Henderson Recreation Centre for an action-packed afternoon filled with FREE activities! A day of fun and spending quality time together on Family Day!<br /><br />A variety of activities including:<br /><br />Arena<br />- Lorna Willis & Lynn Wyminga Sponsored Public Skate from 12:00-2:00pm<br />- Canteen will be open for food purchases<br /><br />Parking lot<br />- Loyalist Emergency Services Truck Tours & Giveaways<br /><br />Library<br />- Temporary Tattoo Station<br />- Colouring Station <br />- Lego Station<br />- Bouncy Castle from Lucky Inflatables<br />- Just Dance<br />- Photobooth from Photobooth Kingston.\n\n</BODY>\n</HTML>

LOCATION:322 Amherst Dr, Amherstview, ON K7N 1S9, Canada
END:VEVENT

END:VCALENDAR
