BEGIN:VCALENDAR
VERSION:2.0
PRODID:-//hacksw/handcal//NONSGML v1.0//EN
BEGIN:VEVENT
UID:9d934368b0126e26dde80028b26debe1
DTSTAMP:20260420T045141Z

DTSTART:20241214T100000
DTEND:20241215T160000
SUMMARY:The 2024 Cochrane Christmas Market - Cochrane Alberta Canada
DESCRIPTION:The 2024 Cochrane Christmas Market is on Saturday, December 14th, and Sunday, December 15th at the SLS Centre in Cochrane, Alberta, Canada.\n\nMark your calendar for the 2024 Cochrane Christmas Market where for 2 full days you will find a unique shopping experience overflowing with amazing vendors from the summer market + plus + seasonal vendors. \nShop & support an exciting lineup of local 'make, bake, and grow' vendors while you check off the items on your holiday shopping list. \nFind unique handcrafted gifts and décor for gift giving and a wide range of items from farm producers, food artisans, and beverage vendors that are perfect for your entertaining and holiday pantry.\nAdmission & parking are free \nA donation to the Cochrane Food Bank is welcomed and very appreciated.\n\nOpen Saturday & Sunday from 10 am to 4 pm.\n\nHappy Holidays!\n\n#2024christmasmarket\n#cochranealberta

X-ALT-DESC;FMTTYPE=text/html:<!DOCTYPE HTML PUBLIC "-//W3C//DTD HTML 3.2//EN">\n<HTML>\n<HEAD>\n<META NAME="Generator" CONTENT="MS Exchange Server version 08.00.0681.000">\n<TITLE></TITLE>\n</HEAD>\n<BODY>\n<!-- Converted from text/rtf format -->\n\nThe 2024 Cochrane Christmas Market is on Saturday, December 14th, and Sunday, December 15th at the SLS Centre in Cochrane, Alberta, Canada.<br /><br />Mark your calendar for the 2024 Cochrane Christmas Market where for 2 full days you will find a unique shopping experience overflowing with amazing vendors from the summer market + plus + seasonal vendors. <br />Shop & support an exciting lineup of local 'make, bake, and grow' vendors while you check off the items on your holiday shopping list. <br />Find unique handcrafted gifts and décor for gift giving and a wide range of items from farm producers, food artisans, and beverage vendors that are perfect for your entertaining and holiday pantry.<br />Admission & parking are free <br />A donation to the Cochrane Food Bank is welcomed and very appreciated.<br /><br />Open Saturday & Sunday from 10 am to 4 pm.<br /><br />Happy Holidays!<br /><br />#2024christmasmarket<br />#cochranealberta\n\n</BODY>\n</HTML>

LOCATION:800 Griffin Rd E, Cochrane, AB T4C 2B8, Canada
END:VEVENT

END:VCALENDAR
