BEGIN:VCALENDAR
VERSION:2.0
PRODID:-//hacksw/handcal//NONSGML v1.0//EN
BEGIN:VEVENT
UID:c28cc4fc45d38c0c8214f28803656d65
DTSTAMP:20260424T110731Z

DTSTART:20241012T080000
DTEND:20241012T130000
SUMMARY:Moose Jaw Homegrown Farmer's Market 2024 - Moose Jaw, Saskatchewan, Canada - 12.10.2024
DESCRIPTION:Moose Jaw Homegrown Farmer's Market is every Saturday until Thanksgiving in Moose Jaw, Saskatchewan.\n\nIf you are looking for homegrown good food visit the Moose Jaw Homegrown Farmers Market.\nThe market is located on the 400 block of Langdon Cres. on Saturdays from 8 am to 1 pm.\nFind fresh vegetables, herbs, spices, baking, preserves, crafts, and a whole lot more.\n\nEvery Saturday to Thanksgiving weekend!

X-ALT-DESC;FMTTYPE=text/html:<!DOCTYPE HTML PUBLIC "-//W3C//DTD HTML 3.2//EN">\n<HTML>\n<HEAD>\n<META NAME="Generator" CONTENT="MS Exchange Server version 08.00.0681.000">\n<TITLE></TITLE>\n</HEAD>\n<BODY>\n<!-- Converted from text/rtf format -->\n\nMoose Jaw Homegrown Farmer's Market is every Saturday until Thanksgiving in Moose Jaw, Saskatchewan.<br /><br />If you are looking for homegrown good food visit the Moose Jaw Homegrown Farmers Market.<br />The market is located on the 400 block of Langdon Cres. on Saturdays from 8 am to 1 pm.<br />Find fresh vegetables, herbs, spices, baking, preserves, crafts, and a whole lot more.<br /><br />Every Saturday to Thanksgiving weekend!\n\n</BODY>\n</HTML>

LOCATION:400 Langdon Crescent, Moose Jaw, SK S6H 0X5, Canada
END:VEVENT

END:VCALENDAR
