BEGIN:VCALENDAR
VERSION:2.0
PRODID:-//hacksw/handcal//NONSGML v1.0//EN
BEGIN:VEVENT
UID:ebd976bc4e838ab921fa854ef41baea5
DTSTAMP:20260421T010219Z

DTSTART:20190831T110000
DTEND:20190831T110000
SUMMARY:Nicola Valley Pro Rodeo
DESCRIPTION:Come find your inner cowboy and experience 'The Real West' this August 31st and September 1st in Merritt, BC! For over 60 years, on the September long weekend, Nicola Valley has welcomed top cowboys and cowgirls to compete for almost $20,000 in prize money in the Canadian Professional Rodeo Association’s (CPRA) Nicola Valley Pro Rodeo. Experience all the rodeo action from our covered grandstand seating, and enjoy free parking, food concessions, beer gardens and an assortment of vendors, including crafters and saddle makers, selling all things western. All the cowboys and cowgirls will be fighting for a spot at the Canadian Finals Rodeo (CFR) and the action will be intense! So bring the family and join us, for one last blast of summer, this Labour Day Weekend at the Nicola Valley Rodeo Grounds in Merrit, BC. Rodeo fun for everyone! Gates open at 11:00 am and the action starts at 1:00 pm.

X-ALT-DESC;FMTTYPE=text/html:<!DOCTYPE HTML PUBLIC "-//W3C//DTD HTML 3.2//EN">\n<HTML>\n<HEAD>\n<META NAME="Generator" CONTENT="MS Exchange Server version 08.00.0681.000">\n<TITLE></TITLE>\n</HEAD>\n<BODY>\n<!-- Converted from text/rtf format -->\n\n<p>Come find your inner cowboy and experience 'The Real West' this August 31st and September 1st in Merritt, BC! For over 60 years, on the September long weekend, Nicola Valley has welcomed top cowboys and cowgirls to compete for almost $20,000 in prize money in the Canadian Professional Rodeo Association’s (CPRA) Nicola Valley Pro Rodeo. Experience all the rodeo action from our covered grandstand seating, and enjoy free parking, food concessions, beer gardens and an assortment of vendors, including crafters and saddle makers, selling all things western. All the cowboys and cowgirls will be fighting for a spot at the Canadian Finals Rodeo (CFR) and the action will be intense! So bring the family and join us, for one last blast of summer, this Labour Day Weekend at the Nicola Valley Rodeo Grounds in Merrit, BC. Rodeo fun for everyone! Gates open at 11:00 am and the action starts at 1:00 pm.</p>\n\n</BODY>\n</HTML>

LOCATION:499 Lindley Creek Rd, Merritt, BC V1K 1L4, Canada
END:VEVENT

END:VCALENDAR
