BEGIN:VCALENDAR
VERSION:2.0
PRODID:-//hacksw/handcal//NONSGML v1.0//EN
BEGIN:VEVENT
UID:a9e1fdb8069c0766e1302e2dcc9e3a18
DTSTAMP:20260422T040649Z

DTSTART:20240817T110000
DTEND:20240817T190000
SUMMARY:2024 Calgary Chinatown Street Festival - Calgary, Alberta, Canada
DESCRIPTION:The 2024 Calgary Chinatown Street Festival is on Saturday, August 17th in Calgary, Alberta, Canada.\n\nCome to downtown Calgary on Saturday, August 17th, and have an unforgettable day at the Chinatown Street Festival!\nThe family will enjoy the live performances, dancing, music, culture, and amazing food in Calgary's Chinatown.\nThe parade begins at noon, with vibrant colors, and is a cultural celebration of the Chinatown community!\nThe Chinatown Street Festival begins at 11 am to 7 pm.\nA FREE Family Event - Pet-Friendly

X-ALT-DESC;FMTTYPE=text/html:<!DOCTYPE HTML PUBLIC "-//W3C//DTD HTML 3.2//EN">\n<HTML>\n<HEAD>\n<META NAME="Generator" CONTENT="MS Exchange Server version 08.00.0681.000">\n<TITLE></TITLE>\n</HEAD>\n<BODY>\n<!-- Converted from text/rtf format -->\n\nThe 2024 Calgary Chinatown Street Festival is on Saturday, August 17th in Calgary, Alberta, Canada.<br /><br />Come to downtown Calgary on Saturday, August 17th, and have an unforgettable day at the Chinatown Street Festival!<br />The family will enjoy the live performances, dancing, music, culture, and amazing food in Calgary's Chinatown.<br />The parade begins at noon, with vibrant colors, and is a cultural celebration of the Chinatown community!<br />The Chinatown Street Festival begins at 11 am to 7 pm.<br />A FREE Family Event - Pet-Friendly\n\n</BODY>\n</HTML>

LOCATION:Chinatown, Calgary, AB T2G, Canada
END:VEVENT

END:VCALENDAR
