BEGIN:VCALENDAR
VERSION:2.0
PRODID:-//hacksw/handcal//NONSGML v1.0//EN
BEGIN:VEVENT
UID:a8b1ba3a3dd466fd01127db9cf606b5f
DTSTAMP:20260420T004505Z

DTSTART:20240615T100000
DTEND:20240616T160000
SUMMARY:The 2024 Hanger Museum Wings & Wheels Father’s Day Event - Calgary Alberta Canada
DESCRIPTION:The 2024 Hanger Museum Wings & Wheels Father’s Day Event is on Saturday, June 15th & Sunday, June 16th in Calgary, Alberta, Canada.\n\nThe 2024 Wings & Wheels Father’s Day event is on Saturday, June 15th & Sunday, June 16th at The Hanger Museum in Calgary, Alberta, Canada\nMark your calendars and plan to bring Dad to the 11th Annual Wings & Wheels Father’s Day event.\nDad gets in FREE when accompanying a paid admission person so make some great memories this Father's Day Weekend!\nThere are lots of exciting and memorable activities all weekend, so get your tickets online or at the door.\n\n

X-ALT-DESC;FMTTYPE=text/html:<!DOCTYPE HTML PUBLIC "-//W3C//DTD HTML 3.2//EN">\n<HTML>\n<HEAD>\n<META NAME="Generator" CONTENT="MS Exchange Server version 08.00.0681.000">\n<TITLE></TITLE>\n</HEAD>\n<BODY>\n<!-- Converted from text/rtf format -->\n\nThe 2024 Hanger Museum Wings & Wheels Father’s Day Event is on Saturday, June 15th & Sunday, June 16th in Calgary, Alberta, Canada.<br /><br />The 2024 Wings & Wheels Father’s Day event is on Saturday, June 15th & Sunday, June 16th at The Hanger Museum in Calgary, Alberta, Canada<br />Mark your calendars and plan to bring Dad to the 11th Annual Wings & Wheels Father’s Day event.<br />Dad gets in FREE when accompanying a paid admission person so make some great memories this Father's Day Weekend!<br />There are lots of exciting and memorable activities all weekend, so get your tickets online or at the door.<br /><br />\n\n</BODY>\n</HTML>

LOCATION:4629 McCall Way NE, Calgary, AB T2E 7H1, Canada
END:VEVENT

END:VCALENDAR
