BEGIN:VCALENDAR
VERSION:2.0
PRODID:-//hacksw/handcal//NONSGML v1.0//EN
BEGIN:VEVENT
UID:29f4f78715d702e850b85162226d6bed
DTSTAMP:20260420T163035Z

DTSTART:20240520T120000
DTEND:20240520T220000
SUMMARY:Nobleton Victoria Day Fair 2024 - Nobleton Ontario Canada
DESCRIPTION:The 2024 Nobleton Victoria Day Festival is on Monday, May 20th at the Dr. William Laceby Community Center and Arena in Nobleton, Ontario, Canada.\n\nJoin in some long weekend fun at the 2024 Nobleton Victoria Day Festival!\nThe Nobleton Victoria Day Parade starts the festivities and begins at 11 a.m. from the Nobleton Library, Sheardown Drive, and Highway 27.\nFrom the library, the parade travels south on Highway 27, turning east on Hill Farm Road and south on Wellar Avenue. \nThe parade then winds down Weller Avenue meeting with King Road. \nThe parade then turns west on King Road and ends at Old King Road.\nThe whole family can enjoy all the fair has to offer from 12 PM – 4 PM\nwith Live Entertainment, Artisans, Games, Inflatables, Rockwall Climbing, Great Food & More!\nFind all your favorite thrilling rides on the Midway \n(Tickets required & open til dusk)\n\nAt dusk get ready for some of the best Fireworks in Ontario! \nBe sure to come early because parking and space fill quickly. \nBring your blankets and lawn chairs!\nFor the best views of the Fireworks, folks are welcome to sit in the field behind the Nobleton Arena at 15 Old King Road.\nA Free Family Event - Donations are Greatly Appreciated. \nTax receipts will be provided for donations of $10 or more.\n\n#victoriaday2024\n#fireworks2024\n#nobleton\n\n

X-ALT-DESC;FMTTYPE=text/html:<!DOCTYPE HTML PUBLIC "-//W3C//DTD HTML 3.2//EN">\n<HTML>\n<HEAD>\n<META NAME="Generator" CONTENT="MS Exchange Server version 08.00.0681.000">\n<TITLE></TITLE>\n</HEAD>\n<BODY>\n<!-- Converted from text/rtf format -->\n\nThe 2024 Nobleton Victoria Day Festival is on Monday, May 20th at the Dr. William Laceby Community Center and Arena in Nobleton, Ontario, Canada.<br /><br />Join in some long weekend fun at the 2024 Nobleton Victoria Day Festival!<br />The Nobleton Victoria Day Parade starts the festivities and begins at 11 a.m. from the Nobleton Library, Sheardown Drive, and Highway 27.<br />From the library, the parade travels south on Highway 27, turning east on Hill Farm Road and south on Wellar Avenue. <br />The parade then winds down Weller Avenue meeting with King Road. <br />The parade then turns west on King Road and ends at Old King Road.<br />The whole family can enjoy all the fair has to offer from 12 PM – 4 PM<br />with Live Entertainment, Artisans, Games, Inflatables, Rockwall Climbing, Great Food & More!<br />Find all your favorite thrilling rides on the Midway <br />(Tickets required & open til dusk)<br /><br />At dusk get ready for some of the best Fireworks in Ontario! <br />Be sure to come early because parking and space fill quickly. <br />Bring your blankets and lawn chairs!<br />For the best views of the Fireworks, folks are welcome to sit in the field behind the Nobleton Arena at 15 Old King Road.<br />A Free Family Event - Donations are Greatly Appreciated. <br />Tax receipts will be provided for donations of $10 or more.<br /><br />#victoriaday2024<br />#fireworks2024<br />#nobleton<br /><br />\n\n</BODY>\n</HTML>

LOCATION:15 Old King Rd, Nobleton, ON L0G 1N0, Canada
END:VEVENT

END:VCALENDAR
