BEGIN:VCALENDAR
VERSION:2.0
PRODID:-//hacksw/handcal//NONSGML v1.0//EN
BEGIN:VEVENT
UID:94be7ec86a88c7c73fc761578cad78c5
DTSTAMP:20260420T170418Z

DTSTART:20180317T090000
DTEND:20180325T130000
SUMMARY:Wiarton's Maple Magic
DESCRIPTION:Wiarton's Maple Magice Festival takes place over 2 weekends: March 17, 18 and March 24, 25 from 9:00am to 1:00pm each day.\nCome out for a fun filled family event that includes celebrating the onset of Spring with a treat of Buttermilk Pancakes topped with fresh Regal Point Elk Farm's Maple Syrup.House specialties include a Peaches & Cream meal and Kids Gourmet meal selections of a Wiarton Willie or a Country Bear. OR, try a "snack waffle" from the new Waffle Bar!\nClimb Mt. Haymore! Join in on the guided Elk Tour! Find the hidden Willies on the Wiarton Willie Trail! Visit the Bush Play playground! Ride the RE/MAX Hot Air Balloon (March 17th ONLY - weather permitting!)\nPetting Zoo & Pony Rides on-site! Learn about the state-of-the-art production of Maple Syrup.\nCome celebrate Spring at Maple Magic!

X-ALT-DESC;FMTTYPE=text/html:<!DOCTYPE HTML PUBLIC "-//W3C//DTD HTML 3.2//EN">\n<HTML>\n<HEAD>\n<META NAME="Generator" CONTENT="MS Exchange Server version 08.00.0681.000">\n<TITLE></TITLE>\n</HEAD>\n<BODY>\n<!-- Converted from text/rtf format -->\n\n<p>Wiarton's Maple Magice Festival takes place over 2 weekends: March 17, 18 and March 24, 25 from 9:00am to 1:00pm each day.</p><br /><p>Come out for a fun filled family event that includes celebrating the onset of Spring with a treat of Buttermilk Pancakes topped with fresh Regal Point Elk Farm's Maple Syrup.House specialties include a Peaches & Cream meal and Kids Gourmet meal selections of a Wiarton Willie or a Country Bear. OR, try a "snack waffle" from the new Waffle Bar!</p><br /><p>Climb Mt. Haymore! Join in on the guided Elk Tour! Find the hidden Willies on the Wiarton Willie Trail! Visit the Bush Play playground! Ride the RE/MAX Hot Air Balloon (March 17th ONLY - weather permitting!)</p><br /><p>Petting Zoo & Pony Rides on-site! Learn about the state-of-the-art production of Maple Syrup.</p><br /><p>Come celebrate Spring at Maple Magic!</p>\n\n</BODY>\n</HTML>

LOCATION:
END:VEVENT

END:VCALENDAR
