BEGIN:VCALENDAR
VERSION:2.0
PRODID:-//hacksw/handcal//NONSGML v1.0//EN
BEGIN:VEVENT
UID:c830bd115d25885da508f92cba99c6c8
DTSTAMP:20260423T012606Z

DTSTART:20240628T120000
DTEND:20240630T180000
SUMMARY:Dauphin's Countryfest 2024 - Dauphin Manitoba Canada
DESCRIPTION:The 2024 Dauphin Countryfest is from Friday, June 28th to Sunday, June 29th in Dauphin, Manitoba, Canada.\n\nDauphin's Countryfest has an incredible line-up for 2024 and this is one music festival you do not want to miss!\nBUY YOUR TICKETS NOW\nThere are 7 camping areas available. Reserved sites are numbered, and customers choose a specific site.\nTickets available online\n\nMeet the Artists for 2024\n\nFriday, June 28\nPlay Now Main Stage\n*Clint Black\n*Carolyn Dawn Johnson\n*Michelle Wright\n*Doc Walker\n*Jason McCoy\n*Quinton Blair\n*The C-Weed Band\n\nCredit Union Corral Stage\n*Ivan Flett Memorial Dancers\n*Renee Lamoureux\n*Jason Lepine & The Metis Spirit Band\n*Desiree Dorion\n*C-Weed Band\n*Northern Royals\n*Snake Oil - Leather & Lace (The Eagles & Stevie Nicks Tribute)\n\nBell Stage\n*Quinton Blair's Two-Step Party\nOpen Mic Showcase\n*Carefree Highway (Gordon Lightfoot Tribute)\n*Brayden King\n*Kates Outlaw\n*The Washboard Union\n*DJ Johnny Rivex\n\nSaturday, June 29 - Main Stage\n*Alabama\n*Diamond Rio\n*The Frontmen\nLarry Stewart of Restless Heart | Richie McDonald of Lonestar | Tim Rushlow of Little Texas\n*Patricia Conroy\n*Lisa Brokop\n*Beverley Mahood\n\n\n\n

X-ALT-DESC;FMTTYPE=text/html:<!DOCTYPE HTML PUBLIC "-//W3C//DTD HTML 3.2//EN">\n<HTML>\n<HEAD>\n<META NAME="Generator" CONTENT="MS Exchange Server version 08.00.0681.000">\n<TITLE></TITLE>\n</HEAD>\n<BODY>\n<!-- Converted from text/rtf format -->\n\nThe 2024 Dauphin Countryfest is from Friday, June 28th to Sunday, June 29th in Dauphin, Manitoba, Canada.<br /><br />Dauphin's Countryfest has an incredible line-up for 2024 and this is one music festival you do not want to miss!<br />BUY YOUR TICKETS NOW<br />There are 7 camping areas available. Reserved sites are numbered, and customers choose a specific site.<br />Tickets available online<br /><br />Meet the Artists for 2024<br /><br />Friday, June 28<br />Play Now Main Stage<br />*Clint Black<br />*Carolyn Dawn Johnson<br />*Michelle Wright<br />*Doc Walker<br />*Jason McCoy<br />*Quinton Blair<br />*The C-Weed Band<br /><br />Credit Union Corral Stage<br />*Ivan Flett Memorial Dancers<br />*Renee Lamoureux<br />*Jason Lepine & The Metis Spirit Band<br />*Desiree Dorion<br />*C-Weed Band<br />*Northern Royals<br />*Snake Oil - Leather & Lace (The Eagles & Stevie Nicks Tribute)<br /><br />Bell Stage<br />*Quinton Blair's Two-Step Party<br />Open Mic Showcase<br />*Carefree Highway (Gordon Lightfoot Tribute)<br />*Brayden King<br />*Kates Outlaw<br />*The Washboard Union<br />*DJ Johnny Rivex<br /><br />Saturday, June 29 - Main Stage<br />*Alabama<br />*Diamond Rio<br />*The Frontmen<br />Larry Stewart of Restless Heart | Richie McDonald of Lonestar | Tim Rushlow of Little Texas<br />*Patricia Conroy<br />*Lisa Brokop<br />*Beverley Mahood<br /><br /><br /><br />\n\n</BODY>\n</HTML>

LOCATION:Dauphin, MB, Canada
END:VEVENT

END:VCALENDAR
