BEGIN:VCALENDAR
VERSION:2.0
PRODID:-//hacksw/handcal//NONSGML v1.0//EN
BEGIN:VEVENT
UID:cd10b657fdcf38d7e648ee3df6e3329a
DTSTAMP:20260422T234104Z

DTSTART:20240607T170000
DTEND:20240609T170000
SUMMARY:Prairie Wind Music Festival 2024 - Cypress River Manitoba Canada
DESCRIPTION:The 2024 Prairie Wind Music Festival is from June 2nd to June 4th at Mordon Park in Mordon, Manitoba, Canada.\n\nJoin the fun in the little town of Cypress River, Manitoba for the 11th Annual Prairie Wind Music Festival.\nPresenting a diverse blend of Canadian music to kick summer off, this festival is small but mighty with awesome hospitality!\nCelebrate the joys of music and community with an incredible group of people at the Prairie Wind Music Festival ... there's something for everyone!\n\nFriday\nOpener - TBA\n8:00 pm - The Honeysliders\n\n​Saturday\nNoon 'till late\nActs in no particular order (yet)\nRidley Bent\nSlow Leaves\nEmma Worley\nOnna Lou\nDeacon Creek\nReverend Rambler\nAnd more to be announced!\n\n​Sunday\n10:30 am The Three Berts\n\nEnjoy homemade, homegrown shopping while taking in the music at the Prairie Wind Music Fest Artisan Market. \nBeer Gardens - The whole site is licensed - Alcohol is available for purchase\nWeekend Passes:\nAdult - 18+ - $45 (in advance)​\nAdult - 18+ - $55 (at the gate)\nTeen - 13-17  $20 (in advance)\nTeen - 13-17  $25 (at the gate)\nYouth - 12 and under *free*\nPet pass - $5\nFriday Only\n13 and Up   •   $20 (in advance)​\n13 and Up   •   $25 (at the gate)\nCamping - One Site - $25\n​\n\n​\n

X-ALT-DESC;FMTTYPE=text/html:<!DOCTYPE HTML PUBLIC "-//W3C//DTD HTML 3.2//EN">\n<HTML>\n<HEAD>\n<META NAME="Generator" CONTENT="MS Exchange Server version 08.00.0681.000">\n<TITLE></TITLE>\n</HEAD>\n<BODY>\n<!-- Converted from text/rtf format -->\n\nThe 2024 Prairie Wind Music Festival is from June 2nd to June 4th at Mordon Park in Mordon, Manitoba, Canada.<br /><br />Join the fun in the little town of Cypress River, Manitoba for the 11th Annual Prairie Wind Music Festival.<br />Presenting a diverse blend of Canadian music to kick summer off, this festival is small but mighty with awesome hospitality!<br />Celebrate the joys of music and community with an incredible group of people at the Prairie Wind Music Festival ... there's something for everyone!<br /><br />Friday<br />Opener - TBA<br />8:00 pm - The Honeysliders<br /><br />​Saturday<br />Noon 'till late<br />Acts in no particular order (yet)<br />Ridley Bent<br />Slow Leaves<br />Emma Worley<br />Onna Lou<br />Deacon Creek<br />Reverend Rambler<br />And more to be announced!<br /><br />​Sunday<br />10:30 am The Three Berts<br /><br />Enjoy homemade, homegrown shopping while taking in the music at the Prairie Wind Music Fest Artisan Market. <br />Beer Gardens - The whole site is licensed - Alcohol is available for purchase<br />Weekend Passes:<br />Adult - 18+ - $45 (in advance)​<br />Adult - 18+ - $55 (at the gate)<br />Teen - 13-17  $20 (in advance)<br />Teen - 13-17  $25 (at the gate)<br />Youth - 12 and under *free*<br />Pet pass - $5<br />Friday Only<br />13 and Up   •   $20 (in advance)​<br />13 and Up   •   $25 (at the gate)<br />Camping - One Site - $25<br />​<br /><br />​<br />\n\n</BODY>\n</HTML>

LOCATION:Cypress River, MB R0K 0P0, Canada
END:VEVENT

END:VCALENDAR
