BEGIN:VCALENDAR
VERSION:2.0
PRODID:-//hacksw/handcal//NONSGML v1.0//EN
BEGIN:VEVENT
UID:72fde70ac0cf71e52d617cc00f576bae
DTSTAMP:20260423T120437Z

DTSTART:20240406T090000
DTEND:20240407T160000
SUMMARY:Sunderland Maple Syrup Festival 2024 - Sunderland Ontario Canada
DESCRIPTION:The Sunderland Maple Syrup Festival 2024 is on Saturday, April 6th, and Sunday, April 7th, in Sunderland, Ontario, Canada.\nIt's Maple Syrup time so bring the family to Sunderland to see modern maple syrup production and enjoy the Art Shows, Market Vendors, Bath Tub Races, Great Food, and much more!\nFree Admission\n\nSaturday, April 6, 2024\n9:00 am – 4:00 pm\n9:00 am – 2:00 pm Northern Stoker Biomass Heating demo at Northern Metalworks, 4 Thompson Road\nStage\n9:00-9:45 The Cloggers\n9:45-10:00 Opening Ceremonies\n10:00-10:30 Legion Line Dancers\n10:30-11:30 Lexy The Rap Dad\n11:45-12:45 Erin Blackstock\n1:00-1:45 Cash On The Barrelhead\n2:00-3:00 Lexy The Rap Dad\n3:15-4:00 Those Guys\nSunderland Public School\nBook Sale – 10:00 am – 4:00 pm – Library at Sunderland Public School\nBus Tours – Harlaine Maple Products, Salem Alpacas and Historical Bus Tour – tickets at the school (10:00 am – 3:00 pm) under 6 free, 6-12 – $2, \nEveryone else $5\nHistorical Bus Tour departs school at 10 am, 11:30 am, 1 pm and 2:30 pm 2023\nRiver Street/Albert Street\n12:30 Bathtub Races (River St and Albert St) by Junior Farmers’ Durham Region \nALL DAY Saturday Ongoing Events\n\nOutdoor Vendors Market on Main St/River St & Church St \n*Pancake Breakfast at the Sunderland Legion with indoor and outdoor tables 8:00 am – 3:30 pm. Adult $10 and children (10 and under) $5\n*Peameal on a Bun – Sunderland Lions by Home Hardware\n*BBQ Burgers & Hotdogs – Sunderland Firefighters – River St west of Church St\nArena\n*Air Bounce Adventures\n*King Coins (mini snacking pancakes) and Sausage on a bun \n*Petting Zoo & Pony Rides  – Tiger Paw Exotics.\nSoper Creek Wildlife Rescue – 10:30 am, 1 pm, and 3 pm\nFallen Willow Forge demonstrations  (John Walker will be demonstrating iron forging)\n*Draft Horse display\nGrace Baptist Church – Warming Centre 10-3 (Sat only)\nNorthern Stocker Halfpgad Hc\n\nDragon Right\nSunday, April 7, 2024\n9:00 am – 4:00 pm\nStage\n9:00-9:45 Jake Perry\n10:00-11:00 Lexy The Rap Dad \n11:15-12:00 The Twangsters\n12:00-12:45 Rearview\n1:15-2:15 Lexy The Rap Dad \n2:15 pm – 3:00 White Collar Grunge\n3:15-4:00 Jonestown Gang\nSunderland Public School\nBus Tours – Harlaine Maple Products, Salem Alpacas, and Historical Bus Tour – tickets at the school (10:00 am – 2:00 pm) under 6 free, 6-12 – $2\nEveryone else $5\nHistorical Bus Tour departs school at 10 am, 11:30 am, 1 pm and 2:30 pm 2023\nRiver Street/Albert Street\n11:30 Lawn Tractor Pull demonstration (River St and Albert St) by 4-H Ontario\nALL DAY Sunday Ongoing Events\n\nOutdoor Vendors Market on Main St/River St & Church St\n*Pancake Breakfast at the Sunderland Legion with indoor and outdoor tables 8:00 am – 2:30 pm. Adult $10 and children (10 and under) $5\n*Peameal on a Bun – Sunderland Lions by Home Hardware\n*BBQ Burgers & Hotdogs – Sunderland Firefighters – River St west of Church St\nArena\n*Air Bounce Adventures\n*King Coins (mini snacking pancakes) and Sausage on a bun\n*Petting Zoo & Pony Rides  – Tiger Paw Exotics. $5 per pony ride\n*Soper Creek Wildlife Rescue – 10:30 am,  12:15 pm and 2 pm\n*Fallen Willow Forge demonstrations  (John Walker will be demonstrating iron forging) – Sponsored by Northern MetalWorks\n*Draft Horse display\nSee you soon in Sunderland!\n\n\n\n\n\n

X-ALT-DESC;FMTTYPE=text/html:<!DOCTYPE HTML PUBLIC "-//W3C//DTD HTML 3.2//EN">\n<HTML>\n<HEAD>\n<META NAME="Generator" CONTENT="MS Exchange Server version 08.00.0681.000">\n<TITLE></TITLE>\n</HEAD>\n<BODY>\n<!-- Converted from text/rtf format -->\n\nThe Sunderland Maple Syrup Festival 2024 is on Saturday, April 6th, and Sunday, April 7th, in Sunderland, Ontario, Canada.<br />It's Maple Syrup time so bring the family to Sunderland to see modern maple syrup production and enjoy the Art Shows, Market Vendors, Bath Tub Races, Great Food, and much more!<br />Free Admission<br /><br />Saturday, April 6, 2024<br />9:00 am – 4:00 pm<br />9:00 am – 2:00 pm Northern Stoker Biomass Heating demo at Northern Metalworks, 4 Thompson Road<br />Stage<br />9:00-9:45 The Cloggers<br />9:45-10:00 Opening Ceremonies<br />10:00-10:30 Legion Line Dancers<br />10:30-11:30 Lexy The Rap Dad<br />11:45-12:45 Erin Blackstock<br />1:00-1:45 Cash On The Barrelhead<br />2:00-3:00 Lexy The Rap Dad<br />3:15-4:00 Those Guys<br />Sunderland Public School<br />Book Sale – 10:00 am – 4:00 pm – Library at Sunderland Public School<br />Bus Tours – Harlaine Maple Products, Salem Alpacas and Historical Bus Tour – tickets at the school (10:00 am – 3:00 pm) under 6 free, 6-12 – $2, <br />Everyone else $5<br />Historical Bus Tour departs school at 10 am, 11:30 am, 1 pm and 2:30 pm 2023<br />River Street/Albert Street<br />12:30 Bathtub Races (River St and Albert St) by Junior Farmers’ Durham Region <br />ALL DAY Saturday Ongoing Events<br /><br />Outdoor Vendors Market on Main St/River St & Church St <br />*Pancake Breakfast at the Sunderland Legion with indoor and outdoor tables 8:00 am – 3:30 pm. Adult $10 and children (10 and under) $5<br />*Peameal on a Bun – Sunderland Lions by Home Hardware<br />*BBQ Burgers & Hotdogs – Sunderland Firefighters – River St west of Church St<br />Arena<br />*Air Bounce Adventures<br />*King Coins (mini snacking pancakes) and Sausage on a bun <br />*Petting Zoo & Pony Rides  – Tiger Paw Exotics.<br />Soper Creek Wildlife Rescue – 10:30 am, 1 pm, and 3 pm<br />Fallen Willow Forge demonstrations  (John Walker will be demonstrating iron forging)<br />*Draft Horse display<br />Grace Baptist Church – Warming Centre 10-3 (Sat only)<br />Northern Stocker Halfpgad Hc<br /><br />Dragon Right<br />Sunday, April 7, 2024<br />9:00 am – 4:00 pm<br />Stage<br />9:00-9:45 Jake Perry<br />10:00-11:00 Lexy The Rap Dad <br />11:15-12:00 The Twangsters<br />12:00-12:45 Rearview<br />1:15-2:15 Lexy The Rap Dad <br />2:15 pm – 3:00 White Collar Grunge<br />3:15-4:00 Jonestown Gang<br />Sunderland Public School<br />Bus Tours – Harlaine Maple Products, Salem Alpacas, and Historical Bus Tour – tickets at the school (10:00 am – 2:00 pm) under 6 free, 6-12 – $2<br />Everyone else $5<br />Historical Bus Tour departs school at 10 am, 11:30 am, 1 pm and 2:30 pm 2023<br />River Street/Albert Street<br />11:30 Lawn Tractor Pull demonstration (River St and Albert St) by 4-H Ontario<br />ALL DAY Sunday Ongoing Events<br /><br />Outdoor Vendors Market on Main St/River St & Church St<br />*Pancake Breakfast at the Sunderland Legion with indoor and outdoor tables 8:00 am – 2:30 pm. Adult $10 and children (10 and under) $5<br />*Peameal on a Bun – Sunderland Lions by Home Hardware<br />*BBQ Burgers & Hotdogs – Sunderland Firefighters – River St west of Church St<br />Arena<br />*Air Bounce Adventures<br />*King Coins (mini snacking pancakes) and Sausage on a bun<br />*Petting Zoo & Pony Rides  – Tiger Paw Exotics. $5 per pony ride<br />*Soper Creek Wildlife Rescue – 10:30 am,  12:15 pm and 2 pm<br />*Fallen Willow Forge demonstrations  (John Walker will be demonstrating iron forging) – Sponsored by Northern MetalWorks<br />*Draft Horse display<br />See you soon in Sunderland!<br /><br /><br /><br /><br /><br />\n\n</BODY>\n</HTML>

LOCATION:Sunderland, ON L0C, Canada
END:VEVENT

END:VCALENDAR
