BEGIN:VCALENDAR
VERSION:2.0
PRODID:-//hacksw/handcal//NONSGML v1.0//EN
BEGIN:VEVENT
UID:54a85e197c0d8dce5bd4e379f2795b24
DTSTAMP:20260420T030014Z

DTSTART:20240216T110000
DTEND:20240219T170000
SUMMARY:Wascana Winter Festival 2024 - Regina Saskatchewan Canada
DESCRIPTION:The Wascana Winter Festival 2024 is from Friday, February 16th to Monday, February 19th in Regina, Saskatchewan, Canada.\nFamily Day Weekend fun!\nSee the live children’s concert, enjoy a jazz dance nite, delight in sleigh rides offered in front of the Legislative Building, and come skating at Wascana rink.\nLots of family fun at the Wascana Winter Festival, the oldest running Winter Festival (Waskimo) for over 40 years.\nThe festival honors all Treaty Rights and recognizes the contribution of all Indigenous people and Metis people to the success of Saskatchewan. \nThe festival especially recognizes Canada’s multicultural heritage.\nSee Canada's Snowbirds at Noon on Friday, February 16th!

X-ALT-DESC;FMTTYPE=text/html:<!DOCTYPE HTML PUBLIC "-//W3C//DTD HTML 3.2//EN">\n<HTML>\n<HEAD>\n<META NAME="Generator" CONTENT="MS Exchange Server version 08.00.0681.000">\n<TITLE></TITLE>\n</HEAD>\n<BODY>\n<!-- Converted from text/rtf format -->\n\nThe Wascana Winter Festival 2024 is from Friday, February 16th to Monday, February 19th in Regina, Saskatchewan, Canada.<br />Family Day Weekend fun!<br />See the live children’s concert, enjoy a jazz dance nite, delight in sleigh rides offered in front of the Legislative Building, and come skating at Wascana rink.<br />Lots of family fun at the Wascana Winter Festival, the oldest running Winter Festival (Waskimo) for over 40 years.<br />The festival honors all Treaty Rights and recognizes the contribution of all Indigenous people and Metis people to the success of Saskatchewan. <br />The festival especially recognizes Canada’s multicultural heritage.<br />See Canada's Snowbirds at Noon on Friday, February 16th!\n\n</BODY>\n</HTML>

LOCATION:Wascana park, Wascana Pkwy, Regina, SK S4S, Canada
END:VEVENT

END:VCALENDAR
