BEGIN:VCALENDAR
VERSION:2.0
PRODID:-//hacksw/handcal//NONSGML v1.0//EN
BEGIN:VEVENT
UID:7736d809a15f00d5d7f1bb184023c67d
DTSTAMP:20260420T033757Z

DTSTART:20240217T170000
DTEND:20240220T170000
SUMMARY:Parry Sound SnowFest 2024 - Parry Sound Ontario Canada - 17.02.2024
DESCRIPTION:Parry Sound Snowfest 2024 is from Friday, February 16th to Monday, February 19th at various Parry Sound, Ontario, Canada venues.\nFamily Day Weekend fun for the whole family at Parry Sounds Snowfest 2024 with Toboganning, Ice Fishing, and Skating.\n*Silent Auction *Pancake Breakfast *Helicopter Rides *Snowpitch *Polar Dip\n*Family BBQ Day and then an awesome Fireworks show at 7:00 pm SHARP @ Kinsmen Park.\nSee you at the 2024 Parry Sound Snowfest!\n\n\n

X-ALT-DESC;FMTTYPE=text/html:<!DOCTYPE HTML PUBLIC "-//W3C//DTD HTML 3.2//EN">\n<HTML>\n<HEAD>\n<META NAME="Generator" CONTENT="MS Exchange Server version 08.00.0681.000">\n<TITLE></TITLE>\n</HEAD>\n<BODY>\n<!-- Converted from text/rtf format -->\n\nParry Sound Snowfest 2024 is from Friday, February 16th to Monday, February 19th at various Parry Sound, Ontario, Canada venues.<br />Family Day Weekend fun for the whole family at Parry Sounds Snowfest 2024 with Toboganning, Ice Fishing, and Skating.<br />*Silent Auction *Pancake Breakfast *Helicopter Rides *Snowpitch *Polar Dip<br />*Family BBQ Day and then an awesome Fireworks show at 7:00 pm SHARP @ Kinsmen Park.<br />See you at the 2024 Parry Sound Snowfest!<br /><br /><br />\n\n</BODY>\n</HTML>

LOCATION:Parry Sound, ON, Canada
END:VEVENT

END:VCALENDAR
