BEGIN:VCALENDAR
VERSION:2.0
PRODID:-//hacksw/handcal//NONSGML v1.0//EN
BEGIN:VEVENT
UID:61f581d22e8ffb7285bb0906ad234f36
DTSTAMP:20260424T052719Z

DTSTART:20240202T160000
DTEND:20240204T170000
SUMMARY:Port Carling Winterfest 2024 - Port Carling Ontario Canada
DESCRIPTION:The Port Carling Winterfest 2024 is from Friday, February 2nd to Sunday, February 4th in Port Carling, Ontario.\nA fun winter event for the whole family!\nThe Port Carling Winterfest is 3 days of outdoor fun and great food such as *Fish & Chips *Crepes *Spaghetti Dinner *Pancake Breakfast and much more!\nBring your skates, dress warm, and come enjoy so many fantastic events.\n*Dog Show *Bake Sale *Donut Eating Contest *Kids Crafts *Log Sawing *Hockey Game *Polar Bear Dip *Snow Snake Throwing Contest and MORE!\nA wonderful community event not to be missed!\nGet your Passports at the gate for only $5 for the entire weekend.\nChildren 12 and under are FREE\nSee you at Port Carlings Winterfest 2024!!!\n\n\n\n

X-ALT-DESC;FMTTYPE=text/html:<!DOCTYPE HTML PUBLIC "-//W3C//DTD HTML 3.2//EN">\n<HTML>\n<HEAD>\n<META NAME="Generator" CONTENT="MS Exchange Server version 08.00.0681.000">\n<TITLE></TITLE>\n</HEAD>\n<BODY>\n<!-- Converted from text/rtf format -->\n\nThe Port Carling Winterfest 2024 is from Friday, February 2nd to Sunday, February 4th in Port Carling, Ontario.<br />A fun winter event for the whole family!<br />The Port Carling Winterfest is 3 days of outdoor fun and great food such as *Fish & Chips *Crepes *Spaghetti Dinner *Pancake Breakfast and much more!<br />Bring your skates, dress warm, and come enjoy so many fantastic events.<br />*Dog Show *Bake Sale *Donut Eating Contest *Kids Crafts *Log Sawing *Hockey Game *Polar Bear Dip *Snow Snake Throwing Contest and MORE!<br />A wonderful community event not to be missed!<br />Get your Passports at the gate for only $5 for the entire weekend.<br />Children 12 and under are FREE<br />See you at Port Carlings Winterfest 2024!!!<br /><br /><br /><br />\n\n</BODY>\n</HTML>

LOCATION:Port Carling, ON P0B 1J0, Canada
END:VEVENT

END:VCALENDAR
