BEGIN:VCALENDAR
VERSION:2.0
PRODID:-//hacksw/handcal//NONSGML v1.0//EN
BEGIN:VEVENT
UID:ef6a6471889c06322e0cd86b3ef5f567
DTSTAMP:20260420T025510Z

DTSTART:20240215T100000
DTEND:20240303T170000
SUMMARY:Winterlude 2024 - Ottawa, Canada - 15.02.2024
DESCRIPTION:Winterlude 2024 is from February 2nd to February 19th in the Capitol of Canada, Ottawa, Ontario.\nWinterlude 2024 is 18 days of awesome events that offer lots of outdoor and indoor winter activities for the whole family.\nSome of the most fun and popular events and activities are:\nThe Winterlude Triathlon\nBuskerfest Winterlude\nThe Ice Dragon Boat Festival\nZip lining\nSnow Slides\nIce Sculpture Competition\nThe Winterlude Maze\nSkating on the Rideau Canal\nCapital Pride Ice Parade\nRideau Hall Winter Celebration\nMini Pow Wow at the Canadian Museum of History\nWith over 200 activities during Winterlude, there is something for everyone!\nRemember to Bring Your Skates!!!

X-ALT-DESC;FMTTYPE=text/html:<!DOCTYPE HTML PUBLIC "-//W3C//DTD HTML 3.2//EN">\n<HTML>\n<HEAD>\n<META NAME="Generator" CONTENT="MS Exchange Server version 08.00.0681.000">\n<TITLE></TITLE>\n</HEAD>\n<BODY>\n<!-- Converted from text/rtf format -->\n\nWinterlude 2024 is from February 2nd to February 19th in the Capitol of Canada, Ottawa, Ontario.<br />Winterlude 2024 is 18 days of awesome events that offer lots of outdoor and indoor winter activities for the whole family.<br />Some of the most fun and popular events and activities are:<br />The Winterlude Triathlon<br />Buskerfest Winterlude<br />The Ice Dragon Boat Festival<br />Zip lining<br />Snow Slides<br />Ice Sculpture Competition<br />The Winterlude Maze<br />Skating on the Rideau Canal<br />Capital Pride Ice Parade<br />Rideau Hall Winter Celebration<br />Mini Pow Wow at the Canadian Museum of History<br />With over 200 activities during Winterlude, there is something for everyone!<br />Remember to Bring Your Skates!!!\n\n</BODY>\n</HTML>

LOCATION:Ottawa, ON, Canada
END:VEVENT

END:VCALENDAR
