BEGIN:VCALENDAR
VERSION:2.0
PRODID:-//hacksw/handcal//NONSGML v1.0//EN
BEGIN:VEVENT
UID:2e45915aed2f9011728cbaa59f9869e3
DTSTAMP:20260424T123433Z

DTSTART:20240223T160000
DTEND:20240225T170000
SUMMARY:Winter Festival of Speed 2024 - Lac La Biche, Alberta, Canada
DESCRIPTION:The 2024 Winter Festival of Speed is from Friday, February 23rd to Sunday, February 25th in Lac La Biche, Alberta, Canada.\nIf you love winter fun and speed, the Lac La Biche Winter Festival of Speed is for you!\nBe thrilled with exciting Car Racing and Snowmobile Drags, see Small Plane Fly-ins, Axe-Throwing and take part in fun winter family activities.\nYou can enter one of the race categories (including the solo event for unregistered ice racers) and even learn how to drive a Snowmobile.\nDon't miss the Trapper's Tent Displays!\n\n\n\n

X-ALT-DESC;FMTTYPE=text/html:<!DOCTYPE HTML PUBLIC "-//W3C//DTD HTML 3.2//EN">\n<HTML>\n<HEAD>\n<META NAME="Generator" CONTENT="MS Exchange Server version 08.00.0681.000">\n<TITLE></TITLE>\n</HEAD>\n<BODY>\n<!-- Converted from text/rtf format -->\n\nThe 2024 Winter Festival of Speed is from Friday, February 23rd to Sunday, February 25th in Lac La Biche, Alberta, Canada.<br />If you love winter fun and speed, the Lac La Biche Winter Festival of Speed is for you!<br />Be thrilled with exciting Car Racing and Snowmobile Drags, see Small Plane Fly-ins, Axe-Throwing and take part in fun winter family activities.<br />You can enter one of the race categories (including the solo event for unregistered ice racers) and even learn how to drive a Snowmobile.<br />Don't miss the Trapper's Tent Displays!<br /><br /><br /><br />\n\n</BODY>\n</HTML>

LOCATION:Lac la Biche, AB T0A, Canada
END:VEVENT

END:VCALENDAR
