BEGIN:VCALENDAR
VERSION:2.0
PRODID:-//hacksw/handcal//NONSGML v1.0//EN
BEGIN:VEVENT
UID:065f99106e16b68726fcb273d907e4dc
DTSTAMP:20260423T034420Z

DTSTART:20240718T080000
DTEND:20240721T220000
SUMMARY:Herring Neck Dory Festival 2024 Newfoundland Canada 
DESCRIPTION:The Herring Neck Dory Festival is an annual cultural festival that takes place in the rural outport community highlighting various Newfoundland traditions including kitchen parties, boat rowing races, music, craft fairs, a parade and fun for all ages! Herring Neck is located on the northeastern arm of New World Island, Notre Dame Bay NL. The small off the beaten path destination is about a 4 hour 40 minute drive from the Capital City of St. John’s. 

X-ALT-DESC;FMTTYPE=text/html:<!DOCTYPE HTML PUBLIC "-//W3C//DTD HTML 3.2//EN">\n<HTML>\n<HEAD>\n<META NAME="Generator" CONTENT="MS Exchange Server version 08.00.0681.000">\n<TITLE></TITLE>\n</HEAD>\n<BODY>\n<!-- Converted from text/rtf format -->\n\nThe Herring Neck Dory Festival is an annual cultural festival that takes place in the rural outport community highlighting various Newfoundland traditions including kitchen parties, boat rowing races, music, craft fairs, a parade and fun for all ages! Herring Neck is located on the northeastern arm of New World Island, Notre Dame Bay NL. The small off the beaten path destination is about a 4 hour 40 minute drive from the Capital City of St. John’s. \n\n</BODY>\n</HTML>

LOCATION:Herring Neck, NL A0G 2R0, Canada
END:VEVENT

END:VCALENDAR
