BEGIN:VCALENDAR
VERSION:2.0
PRODID:-//hacksw/handcal//NONSGML v1.0//EN
BEGIN:VEVENT
UID:fbdf56d73d157e001874e098b900425d
DTSTAMP:20260420T160304Z

DTSTART:20240125T170000
DTEND:20240128T180000
SUMMARY:Blizzard Music Fest 2024 - Rossland British Columbia
DESCRIPTION:Blizzard Music Fest 2024 is from January 25th to January 28th in Rossland, British Columbia, Canada.\n\nThe Blizzard Music Festival has an impressive lineup of artists and the event takes place at multiple venues in beautiful Rossland, British Columbia.\nPurchase weekend passes and select single events online.\nFestival venues include The Historic Miner's Hall, The Flying Steamshovel, Rossland Legion, Outdoor Ice Palace, and more!\n*Alex Cuba *Lazy Syrup Orchestra *Mariel Buckley *Dunks *Shaela Miller *Mark Woodward & many, Many more!\nGet your tickets early before they sell out!\nThere is no better way to break up winter than to have a concert and the Blizzard Music Festival is set to chase away the winter blues.\nBlizzard Music Festival - Rossland, British Columbia

X-ALT-DESC;FMTTYPE=text/html:<!DOCTYPE HTML PUBLIC "-//W3C//DTD HTML 3.2//EN">\n<HTML>\n<HEAD>\n<META NAME="Generator" CONTENT="MS Exchange Server version 08.00.0681.000">\n<TITLE></TITLE>\n</HEAD>\n<BODY>\n<!-- Converted from text/rtf format -->\n\nBlizzard Music Fest 2024 is from January 25th to January 28th in Rossland, British Columbia, Canada.<br /><br />The Blizzard Music Festival has an impressive lineup of artists and the event takes place at multiple venues in beautiful Rossland, British Columbia.<br />Purchase weekend passes and select single events online.<br />Festival venues include The Historic Miner's Hall, The Flying Steamshovel, Rossland Legion, Outdoor Ice Palace, and more!<br />*Alex Cuba *Lazy Syrup Orchestra *Mariel Buckley *Dunks *Shaela Miller *Mark Woodward & many, Many more!<br />Get your tickets early before they sell out!<br />There is no better way to break up winter than to have a concert and the Blizzard Music Festival is set to chase away the winter blues.<br />Blizzard Music Festival - Rossland, British Columbia\n\n</BODY>\n</HTML>

LOCATION:Rossland, BC V0G 1Y0, Canada
END:VEVENT

END:VCALENDAR
