BEGIN:VCALENDAR
VERSION:2.0
PRODID:-//hacksw/handcal//NONSGML v1.0//EN
BEGIN:VEVENT
UID:ee11b216d98b206a7fdd75b8466cf4df
DTSTAMP:20260422T093753Z

DTSTART:20231231T200000
DTEND:20240101T000000
SUMMARY:New Years Eve 2023 - Calgary Alberta Canada
DESCRIPTION:Come celebrate New Year's Eve 2023, December 31st in Calgary, Alberta, Canada.\nMidnight fireworks bringing in 2024 will be launched from Princes Island Park and this spectacular display will be synchronized to music on CJSW 90.9 FM\nYou can watch the fireworks from any location that has a view of Princes Island Park or from the comfort of your home via the live stream.\nHappy 2024 to All!\n

X-ALT-DESC;FMTTYPE=text/html:<!DOCTYPE HTML PUBLIC "-//W3C//DTD HTML 3.2//EN">\n<HTML>\n<HEAD>\n<META NAME="Generator" CONTENT="MS Exchange Server version 08.00.0681.000">\n<TITLE></TITLE>\n</HEAD>\n<BODY>\n<!-- Converted from text/rtf format -->\n\nCome celebrate New Year's Eve 2023, December 31st in Calgary, Alberta, Canada.<br />Midnight fireworks bringing in 2024 will be launched from Princes Island Park and this spectacular display will be synchronized to music on CJSW 90.9 FM<br />You can watch the fireworks from any location that has a view of Princes Island Park or from the comfort of your home via the live stream.<br />Happy 2024 to All!<br />\n\n</BODY>\n</HTML>

LOCATION:Prince's Island Park, 698 Eau Claire Ave SW, Calgary, AB T2P 5N4, Canada
END:VEVENT

END:VCALENDAR
