BEGIN:VCALENDAR
VERSION:2.0
PRODID:-//hacksw/handcal//NONSGML v1.0//EN
BEGIN:VEVENT
UID:34efc0a6dd6ad305aff6684fc534a3ed
DTSTAMP:20260419T205019Z

DTSTART:20240120T100000
DTEND:20240121T170000
SUMMARY:Deep Freeze Winter Festival 2024 - Edmonton Alberta
DESCRIPTION:Deep Freeze Winter Festival is on Saturday, January 20th & Sunday, January 21st in Edmonton, Alberta, Canada.\nCome celebrate winter and the great Edmonton community spirit at the 2024 Deep Freeze Winter Festival themed  "Under the Toad Stool," a fun celebration of foraging and a nostalgic return to our Alberta roots.\nStroll through the Deep Freeze Winter Festival and discover incredible artistic creations, a cute homestead village, and musical celebrations.\n118 Avenue between 90th & 95th Street has festivities and magical ice sculptures and don't forget the street hockey matches, great food and so much more!\nBundle up and we will see you at Deep Freeze Winter Festival 2024!

X-ALT-DESC;FMTTYPE=text/html:<!DOCTYPE HTML PUBLIC "-//W3C//DTD HTML 3.2//EN">\n<HTML>\n<HEAD>\n<META NAME="Generator" CONTENT="MS Exchange Server version 08.00.0681.000">\n<TITLE></TITLE>\n</HEAD>\n<BODY>\n<!-- Converted from text/rtf format -->\n\nDeep Freeze Winter Festival is on Saturday, January 20th & Sunday, January 21st in Edmonton, Alberta, Canada.<br />Come celebrate winter and the great Edmonton community spirit at the 2024 Deep Freeze Winter Festival themed  "Under the Toad Stool," a fun celebration of foraging and a nostalgic return to our Alberta roots.<br />Stroll through the Deep Freeze Winter Festival and discover incredible artistic creations, a cute homestead village, and musical celebrations.<br />118 Avenue between 90th & 95th Street has festivities and magical ice sculptures and don't forget the street hockey matches, great food and so much more!<br />Bundle up and we will see you at Deep Freeze Winter Festival 2024!\n\n</BODY>\n</HTML>

LOCATION:118 Ave NW & 90 St NW, Edmonton, AB T5B 0T7, Canada
END:VEVENT

END:VCALENDAR
