BEGIN:VCALENDAR
VERSION:2.0
PRODID:-//hacksw/handcal//NONSGML v1.0//EN
BEGIN:VEVENT
UID:7628bcff4f1fec2ebe50df3e8c01c895
DTSTAMP:20260419T141820Z

DTSTART:20231216T190000
DTEND:20231218T220000
SUMMARY:Fright House Black X-MAS 2023 - Morley, Alberta Canada - 16.12.2023
DESCRIPTION:Experience a Haunted Christmas at the Fright House in Morley, Alberta, Canada.\nFriday, December 15th to Sunday, December 17th the owner describes Black X-MAS as the use of dolls with the house having the ambiance of A Christmas Carol. Some monsters and the sound of creepy vintage Christmas do wake the house differently even seems more lonely and spookier in the winds of the snow. It has a creepy vibe.\nTake a beautiful winter drive to the Amos Ville Farm, On Kananaskis Trail HWY 40, \nand have a Haunted Christmas!\n

X-ALT-DESC;FMTTYPE=text/html:<!DOCTYPE HTML PUBLIC "-//W3C//DTD HTML 3.2//EN">\n<HTML>\n<HEAD>\n<META NAME="Generator" CONTENT="MS Exchange Server version 08.00.0681.000">\n<TITLE></TITLE>\n</HEAD>\n<BODY>\n<!-- Converted from text/rtf format -->\n\nExperience a Haunted Christmas at the Fright House in Morley, Alberta, Canada.<br />Friday, December 15th to Sunday, December 17th the owner describes Black X-MAS as the use of dolls with the house having the ambiance of A Christmas Carol. Some monsters and the sound of creepy vintage Christmas do wake the house differently even seems more lonely and spookier in the winds of the snow. It has a creepy vibe.<br />Take a beautiful winter drive to the Amos Ville Farm, On Kananaskis Trail HWY 40, <br />and have a Haunted Christmas!<br />\n\n</BODY>\n</HTML>

LOCATION:40 Kananaskis Trail, Kananaskis, AB T0L 2H0, Canada
END:VEVENT

END:VCALENDAR
