BEGIN:VCALENDAR
VERSION:2.0
PRODID:-//hacksw/handcal//NONSGML v1.0//EN
BEGIN:VEVENT
UID:a4c21c8ddd9b17e30d688865e0894a10
DTSTAMP:20260420T082417Z

DTSTART:20231208T193000
DTEND:20231208T220000
SUMMARY:Winter Harp 2023 - Victoria Conservatory of Music
DESCRIPTION:The Conservatory of Music in Victoria B.C. presents - Winter Harp\n\nWinter Harp is one of the most beloved holiday concerts anyway where you are taken on a magical journey you will never forget.\n\nThis year is special as it is the 30th Anniversary Tour and you'll be treated to some of the ensemble's most popular carols, as well as some beautiful, rare carols. And expect a new fun reading on the Yuletide musings of Oscar the Cat.\n\n Join this world-class ensemble of singers, harps, flute, viola, medieval instruments and percussion for a concert of heartwarming songs and stories in celebration of Christmas. The musicians, in rich medieval attire will whisk you to a land of pure magic.\n\nFor more than 30 years, tens of thousands of people have made Winter Harp their annual tradition--now that is something to celebrate! Winter Harp . . . Christmas begins here.\n\nTICKETS - are available from the website below\n$40.00 CAD + $5.46 Fees\nPlease note that entry for this concert is at The Victoria Conservatory of Music entrance on 900 Johnson Street. Main level seating only as balcony is closed.

X-ALT-DESC;FMTTYPE=text/html:<!DOCTYPE HTML PUBLIC "-//W3C//DTD HTML 3.2//EN">\n<HTML>\n<HEAD>\n<META NAME="Generator" CONTENT="MS Exchange Server version 08.00.0681.000">\n<TITLE></TITLE>\n</HEAD>\n<BODY>\n<!-- Converted from text/rtf format -->\n\nThe Conservatory of Music in Victoria B.C. presents - Winter Harp<br /><br />Winter Harp is one of the most beloved holiday concerts anyway where you are taken on a magical journey you will never forget.<br /><br />This year is special as it is the 30th Anniversary Tour and you'll be treated to some of the ensemble's most popular carols, as well as some beautiful, rare carols. And expect a new fun reading on the Yuletide musings of Oscar the Cat.<br /><br /> Join this world-class ensemble of singers, harps, flute, viola, medieval instruments and percussion for a concert of heartwarming songs and stories in celebration of Christmas. The musicians, in rich medieval attire will whisk you to a land of pure magic.<br /><br />For more than 30 years, tens of thousands of people have made Winter Harp their annual tradition--now that is something to celebrate! Winter Harp . . . Christmas begins here.<br /><br />TICKETS - are available from the website below<br />$40.00 CAD + $5.46 Fees<br />Please note that entry for this concert is at The Victoria Conservatory of Music entrance on 900 Johnson Street. Main level seating only as balcony is closed.\n\n</BODY>\n</HTML>

LOCATION:907 Pandora Ave v, Victoria, BC V8V 3P4, Canada
END:VEVENT

END:VCALENDAR
