BEGIN:VCALENDAR
VERSION:2.0
PRODID:-//hacksw/handcal//NONSGML v1.0//EN
BEGIN:VEVENT
UID:5015d462bffdced001d63b9170d6144c
DTSTAMP:20260425T150028Z

DTSTART:20240105T170000
DTEND:20240214T220000
SUMMARY:Belleville Festival of Lights 2023 - Belleville Ontario Canada - 05.01.2024
DESCRIPTION:The Belleville Festival of Lights 2023 is on now until January 7th, 2024 at Jane Forrester Park in Belleville, Ontario, Canada.\n\nSanta and Mrs.Claus will  be at the light display every Friday night from December, 1st to 22nd\nThey will be collecting letters and Christmas wishes before the big day so bring your letters to Santa!\nThe Belleville Festival of Lights draws thousands of visitors each year and is one you do not want to miss.\nPack up the family and enjoy an evening of incredible Festive Lights at Jane Forrester Park this holiday season.

X-ALT-DESC;FMTTYPE=text/html:<!DOCTYPE HTML PUBLIC "-//W3C//DTD HTML 3.2//EN">\n<HTML>\n<HEAD>\n<META NAME="Generator" CONTENT="MS Exchange Server version 08.00.0681.000">\n<TITLE></TITLE>\n</HEAD>\n<BODY>\n<!-- Converted from text/rtf format -->\n\nThe Belleville Festival of Lights 2023 is on now until January 7th, 2024 at Jane Forrester Park in Belleville, Ontario, Canada.<br /><br />Santa and Mrs.Claus will  be at the light display every Friday night from December, 1st to 22nd<br />They will be collecting letters and Christmas wishes before the big day so bring your letters to Santa!<br />The Belleville Festival of Lights draws thousands of visitors each year and is one you do not want to miss.<br />Pack up the family and enjoy an evening of incredible Festive Lights at Jane Forrester Park this holiday season.\n\n</BODY>\n</HTML>

LOCATION:Jane Forrester Park, 30 S John St, Belleville, ON K8N 3E3, Canada
END:VEVENT

END:VCALENDAR
