BEGIN:VCALENDAR
VERSION:2.0
PRODID:-//hacksw/handcal//NONSGML v1.0//EN
BEGIN:VEVENT
UID:77d118c6b1a0d33bae050b852caa5c1a
DTSTAMP:20260423T013921Z

DTSTART:20231129T180000
DTEND:20240114T230000
SUMMARY:Niagara Falls Winter Festival of Lights 2023 - 29.11.2023
DESCRIPTION:The Niagara Falls Winter Festival of Lights 2023 is from November 22nd until January 7th in Niagara Falls, Canada.\nBring the family for this spectacular Christmas Light Display with over 3 million lights that will amaze and dazzle you. The Falls will also be lit on both sides of the border so mark your calendars and plan an evening or weekend in beautiful Niagara Falls, Canada.\nFor 41 years the Niagara Winter Festival of Lights has been a tradition for many families from all over Southern Ontario and the Buffalo N.Y. area. This is Canada’s largest illumination festival and the premiere illumination festival in North America.\nThis FREE drive-through light festival along the Niagara Parkway is one you do not want to miss!\n

X-ALT-DESC;FMTTYPE=text/html:<!DOCTYPE HTML PUBLIC "-//W3C//DTD HTML 3.2//EN">\n<HTML>\n<HEAD>\n<META NAME="Generator" CONTENT="MS Exchange Server version 08.00.0681.000">\n<TITLE></TITLE>\n</HEAD>\n<BODY>\n<!-- Converted from text/rtf format -->\n\nThe Niagara Falls Winter Festival of Lights 2023 is from November 22nd until January 7th in Niagara Falls, Canada.<br />Bring the family for this spectacular Christmas Light Display with over 3 million lights that will amaze and dazzle you. The Falls will also be lit on both sides of the border so mark your calendars and plan an evening or weekend in beautiful Niagara Falls, Canada.<br />For 41 years the Niagara Winter Festival of Lights has been a tradition for many families from all over Southern Ontario and the Buffalo N.Y. area. This is Canada’s largest illumination festival and the premiere illumination festival in North America.<br />This FREE drive-through light festival along the Niagara Parkway is one you do not want to miss!<br />\n\n</BODY>\n</HTML>

LOCATION:Niagara River Pkwy, Regional Municipality of Niagara, ON, Canada
END:VEVENT

END:VCALENDAR
