BEGIN:VCALENDAR
VERSION:2.0
PRODID:-//hacksw/handcal//NONSGML v1.0//EN
BEGIN:VEVENT
UID:fad7b0580893497b1ebe61c21b2d59f2
DTSTAMP:20260423T083319Z

DTSTART:20231208T183000
DTEND:20231210T210000
SUMMARY:Christmas in the Village 2023 - Kinmount Ontario Canada - 08.12.2023
DESCRIPTION:Come celebrate the holiday season at Christmas in the Village from Thursday, December 7th to Saturday, December 9th in the Village of Kinmount, Ontario, Canada.\nThursday, December 7th is the Christmas Tree Lighting at Kimount Train Station where there will be Bonfires, Christmas Carollers, and Treats.\nSaturday, December 9th from 8:30 am to 11 am is the FREE Breakfast with Santa at the Kinmount Legion Hall.\nKids Christmas Sale is from 9 am to Noon at St. James Anglican Church - Items 50 cents to $2 and Gift Wrapped for you!\nThe Christmas Market is from 10 am to 3 pm at the Kinmount Community Centre \nLots of fun for the whole family !!! \n\n#kinmountontario\n#festiveevents2023

X-ALT-DESC;FMTTYPE=text/html:<!DOCTYPE HTML PUBLIC "-//W3C//DTD HTML 3.2//EN">\n<HTML>\n<HEAD>\n<META NAME="Generator" CONTENT="MS Exchange Server version 08.00.0681.000">\n<TITLE></TITLE>\n</HEAD>\n<BODY>\n<!-- Converted from text/rtf format -->\n\nCome celebrate the holiday season at Christmas in the Village from Thursday, December 7th to Saturday, December 9th in the Village of Kinmount, Ontario, Canada.<br />Thursday, December 7th is the Christmas Tree Lighting at Kimount Train Station where there will be Bonfires, Christmas Carollers, and Treats.<br />Saturday, December 9th from 8:30 am to 11 am is the FREE Breakfast with Santa at the Kinmount Legion Hall.<br />Kids Christmas Sale is from 9 am to Noon at St. James Anglican Church - Items 50 cents to $2 and Gift Wrapped for you!<br />The Christmas Market is from 10 am to 3 pm at the Kinmount Community Centre <br />Lots of fun for the whole family !!! <br /><br />#kinmountontario<br />#festiveevents2023\n\n</BODY>\n</HTML>

LOCATION:Kinmount, ON K0M 2A0, Canada
END:VEVENT

END:VCALENDAR
