BEGIN:VCALENDAR
VERSION:2.0
PRODID:-//hacksw/handcal//NONSGML v1.0//EN
BEGIN:VEVENT
UID:45415933008b827cc0a95d92e8cd96b3
DTSTAMP:20260420T005356Z

DTSTART:20231125T140000
DTEND:20231125T200000
SUMMARY:Invermere Light Up & Santa Claus Parade 2023 - Invermere British Columbia
DESCRIPTION:Invermere, British Columbia invites you to their Light Up & Santa Claus Parade 2023 on Saturday, November 25th.\nFestivities begin at 2 pm to 5 pm with Photos with Santa at the Invermere Legion \n$10.00 per photo - All proceeds to the Christmas Bureau\nWagon Rides from 2 pm to 5 pm on 7th Avenue - Pickup & Drop Off at Manulife and Inside Edge\nSanta Claus Parade starts at 6 pm at Potluck Park - 7th Avenue to the Arena\nAfter the Santa Claus Parade bring the family over to Cenotaph Park for Tree Lighting with SANTA!\n*Firepits *Window Decorating *Fun Festive Activities & More\n

X-ALT-DESC;FMTTYPE=text/html:<!DOCTYPE HTML PUBLIC "-//W3C//DTD HTML 3.2//EN">\n<HTML>\n<HEAD>\n<META NAME="Generator" CONTENT="MS Exchange Server version 08.00.0681.000">\n<TITLE></TITLE>\n</HEAD>\n<BODY>\n<!-- Converted from text/rtf format -->\n\nInvermere, British Columbia invites you to their Light Up & Santa Claus Parade 2023 on Saturday, November 25th.<br />Festivities begin at 2 pm to 5 pm with Photos with Santa at the Invermere Legion <br />$10.00 per photo - All proceeds to the Christmas Bureau<br />Wagon Rides from 2 pm to 5 pm on 7th Avenue - Pickup & Drop Off at Manulife and Inside Edge<br />Santa Claus Parade starts at 6 pm at Potluck Park - 7th Avenue to the Arena<br />After the Santa Claus Parade bring the family over to Cenotaph Park for Tree Lighting with SANTA!<br />*Firepits *Window Decorating *Fun Festive Activities & More<br />\n\n</BODY>\n</HTML>

LOCATION:Invermere, BC, Canada
END:VEVENT

END:VCALENDAR
