BEGIN:VCALENDAR
VERSION:2.0
PRODID:-//hacksw/handcal//NONSGML v1.0//EN
BEGIN:VEVENT
UID:25267eb5c5da70607a29821898af49fb
DTSTAMP:20260423T043739Z

DTSTART:20231021T120000
DTEND:20231022T200000
SUMMARY:Diwalicious: Taste of Diwali 2023 in Toronto, Ontario
DESCRIPTION:Indulge in a symphony of flavors at 'DIWALICIOUS' - Taste of Diwali.\n\nIndo Canada Arts Council brings mouthwatering festive food flavours . Embark on a culinary journey that celebrates the rich tapestry of Indian cuisine, blending traditional authenticity with modern innovation.\n\nSavor the aromatic spices, exquisite textures, and mouthwatering delights meticulously curated by expert chefs and culinary artisans. From delectable street food to royal feasts, 'Diwalicious' promises to tantalize your taste buds and transport you to the heart of India's gastronomic wonders.\n\nJoin us in embracing the spirit of togetherness as we share not just food, but stories, traditions, and the joy of Diwali. A feast for the senses awaits you at 'Diwalicious' – where every bite is a celebration! 

X-ALT-DESC;FMTTYPE=text/html:<!DOCTYPE HTML PUBLIC "-//W3C//DTD HTML 3.2//EN">\n<HTML>\n<HEAD>\n<META NAME="Generator" CONTENT="MS Exchange Server version 08.00.0681.000">\n<TITLE></TITLE>\n</HEAD>\n<BODY>\n<!-- Converted from text/rtf format -->\n\nIndulge in a symphony of flavors at 'DIWALICIOUS' - Taste of Diwali.<br /><br />Indo Canada Arts Council brings mouthwatering festive food flavours . Embark on a culinary journey that celebrates the rich tapestry of Indian cuisine, blending traditional authenticity with modern innovation.<br /><br />Savor the aromatic spices, exquisite textures, and mouthwatering delights meticulously curated by expert chefs and culinary artisans. From delectable street food to royal feasts, 'Diwalicious' promises to tantalize your taste buds and transport you to the heart of India's gastronomic wonders.<br /><br />Join us in embracing the spirit of togetherness as we share not just food, but stories, traditions, and the joy of Diwali. A feast for the senses awaits you at 'Diwalicious' – where every bite is a celebration! \n\n</BODY>\n</HTML>

LOCATION:5100 Yonge St, North York, ON M2N 5V7, Canada
END:VEVENT

END:VCALENDAR
