BEGIN:VCALENDAR
VERSION:2.0
PRODID:-//hacksw/handcal//NONSGML v1.0//EN
BEGIN:VEVENT
UID:86c3411b8660b9bea1b30deaa01d51b8
DTSTAMP:20260419T225443Z

DTSTART:20231021T110000
DTEND:20231021T190000
SUMMARY:PickleFest at Henderson Brewing Company in Toronto, Ontario
DESCRIPTION:Toronto's first-ever PickleFest is here! With over 50 vendors offering everything from pickle pizza to picklebacks, this fully licensed, all-ages event promises pickle-infused fun rain or shine. Hurry, tickets are on sale now, and the first 2000 attendees snag a door prize. Don't miss this tangy adventure! Tickets and merch are available here: https://shophendersonbrewing.com/collections/picklefest

X-ALT-DESC;FMTTYPE=text/html:<!DOCTYPE HTML PUBLIC "-//W3C//DTD HTML 3.2//EN">\n<HTML>\n<HEAD>\n<META NAME="Generator" CONTENT="MS Exchange Server version 08.00.0681.000">\n<TITLE></TITLE>\n</HEAD>\n<BODY>\n<!-- Converted from text/rtf format -->\n\nToronto's first-ever PickleFest is here! With over 50 vendors offering everything from pickle pizza to picklebacks, this fully licensed, all-ages event promises pickle-infused fun rain or shine. Hurry, tickets are on sale now, and the first 2000 attendees snag a door prize. Don't miss this tangy adventure! Tickets and merch are available here: https://shophendersonbrewing.com/collections/picklefest\n\n</BODY>\n</HTML>

LOCATION:128a Sterling Rd, Toronto, ON M6R 2B7, Canada
END:VEVENT

END:VCALENDAR
