BEGIN:VCALENDAR
VERSION:2.0
PRODID:-//hacksw/handcal//NONSGML v1.0//EN
BEGIN:VEVENT
UID:16fde120beddc4583db58d2ec8f7c2be
DTSTAMP:20260423T203839Z

DTSTART:20230921T153000
DTEND:20230924T153000
SUMMARY:Unscripted Twillingate Digital Arts Festival Newfoundland Canada 2023
DESCRIPTION:Unscripted Twillingate Digital Arts Festival Newfoundland Canada 2023 is an event that really excites me and is hosted at The Anchor Inn Hotel and Suites Twillingate. My love of film and digital arts runs deep and this festival features talented artists from NL in a place where we can create, share, celebrate and learn. Featured workshops at the digital arts festival include presenters including local television producer and director Dan Warren, Digital Creator James March, Musician/Photographer/Graphic Designer Richie Perez and world-renowned outdoor adventurer Dr. TA Loeffler. \n\nDan Warren will be offering a 3 part workshop where you’ll learn the art of unscripted storytelling using elements of both digital arts and TV production. Part 1 serves as an introduction to the topic while Part 2 is all about having fun and capturing content which takes place during “Treat on the Trail”. Part 3 concludes with editing and final production. “Treat on the Trail” transforms the workshop into a delicious culinary experience and features local Top Chefs including Roary McPherson, Shaun Hussey, Michelle Leblanc, Christopher Mercer, Stephen Quinton and Baker/Cake artist Catherine Sansome. \n\nFurthermore, Content Creator James March talks about the latest developments in AI and explores new creative possibilities.  Well known Photographer Richie Perez features a session on improving photography skills as either a beginner or expert.  The workshop focuses particularly on the skillful art of slow-exposure flash photography. When the work is done relax, have some fun and enjoy a traditional Newfoundland kitchen party featuring island bands “The Split Peas” and headliners “Those Beautiful Ugly Sticks”.  Additionally, don’t miss out by performances by musicians Adam Baxter, Jared Waterman and Shelby Maye. \n\nOn Saturday night don’t miss the soirée at Captains Pub in Twillingate where you can be guaranteed a good evening with a performance by talented NL artist Sherman Downey.  And finally, don’t miss the opening night reception at St. Peter’s Church were festival goers can snack on finger foods, mingle and enjoy the beautiful music and fiddle playing of ECMA nominated artist Rosemary Lawton. On Sunday up tie up your hiking boots and finish off the arts festival with a guided hike on the coastal RockCut Twillingate Trail. Don’t forget to  spend some time appreciating the work of local Newfoundland and Labrador artists at the Digital Art Exhibit showcasing artists Anne Troake, Bruce Pashak, Joseph Kisusi and Rhonda Pelley. On Sunday up tie up your hiking boots and finish off the arts festival with a guided hike on the coastal RockCut Twillingate Trail. \n\nUnscripted Twillingate Digital Arts Festival 2023  - check out the website for more information and ticket purchase information and accommodations.\n\n\n

X-ALT-DESC;FMTTYPE=text/html:<!DOCTYPE HTML PUBLIC "-//W3C//DTD HTML 3.2//EN">\n<HTML>\n<HEAD>\n<META NAME="Generator" CONTENT="MS Exchange Server version 08.00.0681.000">\n<TITLE></TITLE>\n</HEAD>\n<BODY>\n<!-- Converted from text/rtf format -->\n\nUnscripted Twillingate Digital Arts Festival Newfoundland Canada 2023 is an event that really excites me and is hosted at The Anchor Inn Hotel and Suites Twillingate. My love of film and digital arts runs deep and this festival features talented artists from NL in a place where we can create, share, celebrate and learn. Featured workshops at the digital arts festival include presenters including local television producer and director Dan Warren, Digital Creator James March, Musician/Photographer/Graphic Designer Richie Perez and world-renowned outdoor adventurer Dr. TA Loeffler. <br /><br />Dan Warren will be offering a 3 part workshop where you’ll learn the art of unscripted storytelling using elements of both digital arts and TV production. Part 1 serves as an introduction to the topic while Part 2 is all about having fun and capturing content which takes place during “Treat on the Trail”. Part 3 concludes with editing and final production. “Treat on the Trail” transforms the workshop into a delicious culinary experience and features local Top Chefs including Roary McPherson, Shaun Hussey, Michelle Leblanc, Christopher Mercer, Stephen Quinton and Baker/Cake artist Catherine Sansome. <br /><br />Furthermore, Content Creator James March talks about the latest developments in AI and explores new creative possibilities.  Well known Photographer Richie Perez features a session on improving photography skills as either a beginner or expert.  The workshop focuses particularly on the skillful art of slow-exposure flash photography. When the work is done relax, have some fun and enjoy a traditional Newfoundland kitchen party featuring island bands “The Split Peas” and headliners “Those Beautiful Ugly Sticks”.  Additionally, don’t miss out by performances by musicians Adam Baxter, Jared Waterman and Shelby Maye. <br /><br />On Saturday night don’t miss the soirée at Captains Pub in Twillingate where you can be guaranteed a good evening with a performance by talented NL artist Sherman Downey.  And finally, don’t miss the opening night reception at St. Peter’s Church were festival goers can snack on finger foods, mingle and enjoy the beautiful music and fiddle playing of ECMA nominated artist Rosemary Lawton. On Sunday up tie up your hiking boots and finish off the arts festival with a guided hike on the coastal RockCut Twillingate Trail. Don’t forget to  spend some time appreciating the work of local Newfoundland and Labrador artists at the Digital Art Exhibit showcasing artists Anne Troake, Bruce Pashak, Joseph Kisusi and Rhonda Pelley. On Sunday up tie up your hiking boots and finish off the arts festival with a guided hike on the coastal RockCut Twillingate Trail. <br /><br />Unscripted Twillingate Digital Arts Festival 2023  - check out the website for more information and ticket purchase information and accommodations.<br /><br /><br />\n\n</BODY>\n</HTML>

LOCATION:Twillingate, NL, Canada
END:VEVENT

END:VCALENDAR
