BEGIN:VCALENDAR
VERSION:2.0
PRODID:-//hacksw/handcal//NONSGML v1.0//EN
BEGIN:VEVENT
UID:06216cc170f0adbfb5b9c5619ed0acea
DTSTAMP:20260420T073531Z

DTSTART:20230916T110000
DTEND:20230916T220000
SUMMARY:Mexican Independence Day 2023 in Toronto, Ontario
DESCRIPTION:In honour of Mexican Independence Day, a huge festival full of delicious eats, drinks, and entertainment is coming to Toronto this month. Get ready for a jam-packed day! Here’s what to know.\n\nOn September 16th, Nathan Phillips Square will host the 29th annual Mexican Independence Day celebration from 11 AM to 10 PM. Expect a day full of culture, entertainment, and more thanks to the over 40 food and artisanal vendors expected to be in attendance.\n\nIf you love all things Mexico, especially its tantalizing cuisine, you can enjoy 20 different food trucks and spots at the festival. A few of the food vendors include:\n\nAlebrijes\nCasa Cancun\nChurros by Rebozos\nDiamond Mexican Food\nEl Sazon Mexicano\nEl Trompo Movil\nFruta Libre\nHEY WEY!\n\nIf you’re looking to do a little shopping, find that sentimental gift you’ve been looking for or cross off a few things from your to-do list, there are over 20 different vendors to check out.\n\nAs for artisans, names include:\n\nEl Castillo Vaquero\nHappy Faces86\nIxchel Vogue\nLa Dulceria\nLaura Bonabota\nLittle Lilieth\nMagic Express\nMundo Vaquero\nLast but definitely not least, entertainers! Expect performances by Latin singers, groups, folklore dances, and mariachi bands to keep you entertained all day long.\n\nThe event is free to attend and you definitely wouldn’t want to miss out on all the fun. Mark your calendars and join the hundreds of attendees this September.

X-ALT-DESC;FMTTYPE=text/html:<!DOCTYPE HTML PUBLIC "-//W3C//DTD HTML 3.2//EN">\n<HTML>\n<HEAD>\n<META NAME="Generator" CONTENT="MS Exchange Server version 08.00.0681.000">\n<TITLE></TITLE>\n</HEAD>\n<BODY>\n<!-- Converted from text/rtf format -->\n\nIn honour of Mexican Independence Day, a huge festival full of delicious eats, drinks, and entertainment is coming to Toronto this month. Get ready for a jam-packed day! Here’s what to know.<br /><br />On September 16th, Nathan Phillips Square will host the 29th annual Mexican Independence Day celebration from 11 AM to 10 PM. Expect a day full of culture, entertainment, and more thanks to the over 40 food and artisanal vendors expected to be in attendance.<br /><br />If you love all things Mexico, especially its tantalizing cuisine, you can enjoy 20 different food trucks and spots at the festival. A few of the food vendors include:<br /><br />Alebrijes<br />Casa Cancun<br />Churros by Rebozos<br />Diamond Mexican Food<br />El Sazon Mexicano<br />El Trompo Movil<br />Fruta Libre<br />HEY WEY!<br /><br />If you’re looking to do a little shopping, find that sentimental gift you’ve been looking for or cross off a few things from your to-do list, there are over 20 different vendors to check out.<br /><br />As for artisans, names include:<br /><br />El Castillo Vaquero<br />Happy Faces86<br />Ixchel Vogue<br />La Dulceria<br />Laura Bonabota<br />Little Lilieth<br />Magic Express<br />Mundo Vaquero<br />Last but definitely not least, entertainers! Expect performances by Latin singers, groups, folklore dances, and mariachi bands to keep you entertained all day long.<br /><br />The event is free to attend and you definitely wouldn’t want to miss out on all the fun. Mark your calendars and join the hundreds of attendees this September.\n\n</BODY>\n</HTML>

LOCATION:100 Queen St W, Toronto, ON M5H 2N1, Canada
END:VEVENT

END:VCALENDAR
