BEGIN:VCALENDAR
VERSION:2.0
PRODID:-//hacksw/handcal//NONSGML v1.0//EN
BEGIN:VEVENT
UID:9e7613e0a63c676a45b1af7b4d75a355
DTSTAMP:20260420T200226Z

DTSTART:20230908T110000
DTEND:20230910T210000
SUMMARY:Ribfest 2023 Esquimalt BC
DESCRIPTION:What Is The Esquimalt Ribfest About?\nFamily, Community, Volunteers, Kids, Participation, and Fun!\n\nThis is a weekend of BBQ ribs, local entertainment, craft beer, cider and wine, free kid's activities, local arts, and vendors. with these ingredients, Esquimalt Ribfest comes together for a weekend of the best ribs in the country, amazing local entertainment, delicious beer and cider from local craft brewers, free kid's games, local arts, and vendors, for guaranteed family fun.\n\nOutside operating costs, all proceeds are funneled back into the community through the Esquimalt Firefighter's Charitable Foundation. Proceeds go to local charities and school-sponsored activities for the community's youth.\n\nEsquimalt Ribfest has six professional rib teams that compete to win the coveted People's Choice.\n\nThis year's line-up of Ribbers:\n\nBOSS HOG'S\nSMOKE DEM BONES\nPRAIRIE SMOKE & SPICE\nGATOR BBQ Original Deep South BBQ Since 1983\nPIT CREW BBQ\nGRIZZLY RIBS\n\nPlease note Ribfest is a CASH ONLY EVENT. The full BBQ and Drinks menu and prices are included on the website below.\n\n

X-ALT-DESC;FMTTYPE=text/html:<!DOCTYPE HTML PUBLIC "-//W3C//DTD HTML 3.2//EN">\n<HTML>\n<HEAD>\n<META NAME="Generator" CONTENT="MS Exchange Server version 08.00.0681.000">\n<TITLE></TITLE>\n</HEAD>\n<BODY>\n<!-- Converted from text/rtf format -->\n\nWhat Is The Esquimalt Ribfest About?<br />Family, Community, Volunteers, Kids, Participation, and Fun!<br /><br />This is a weekend of BBQ ribs, local entertainment, craft beer, cider and wine, free kid's activities, local arts, and vendors. with these ingredients, Esquimalt Ribfest comes together for a weekend of the best ribs in the country, amazing local entertainment, delicious beer and cider from local craft brewers, free kid's games, local arts, and vendors, for guaranteed family fun.<br /><br />Outside operating costs, all proceeds are funneled back into the community through the Esquimalt Firefighter's Charitable Foundation. Proceeds go to local charities and school-sponsored activities for the community's youth.<br /><br />Esquimalt Ribfest has six professional rib teams that compete to win the coveted People's Choice.<br /><br />This year's line-up of Ribbers:<br /><br />BOSS HOG'S<br />SMOKE DEM BONES<br />PRAIRIE SMOKE & SPICE<br />GATOR BBQ Original Deep South BBQ Since 1983<br />PIT CREW BBQ<br />GRIZZLY RIBS<br /><br />Please note Ribfest is a CASH ONLY EVENT. The full BBQ and Drinks menu and prices are included on the website below.<br /><br />\n\n</BODY>\n</HTML>

LOCATION:1150 Lyall St, Victoria, BC V9A, Canada
END:VEVENT

END:VCALENDAR
