BEGIN:VCALENDAR
VERSION:2.0
PRODID:-//hacksw/handcal//NONSGML v1.0//EN
BEGIN:VEVENT
UID:fefe45bcb1c7ccd4e0e3c885f8110b47
DTSTAMP:20260420T211749Z

DTSTART:20230916T090000
DTEND:20230917T153000
SUMMARY:2023 Heritage Acres Harvest Fall Fair Saanichton BC
DESCRIPTION:A fun filled family day out at Heritage Acres!\n\nAdults: $5.00 per person, Kids under 12 FREE\n\n* Watch demonstrations of Threshing, Blacksmithing, Woodworking\n* Watch the Steam Engines and Tractors in action\n* Ride the People Mover (This sounds like Disney!)\n* Check out the newly refurbished Sawmill\n* Visit the Chapel, Pioneer Log House, The Michell Museum, Newman Boat House, 1913 Saanichton \n   School House, Hatch Streetcar barn, and the 1859 prefabricated Moody House\n* Watch a demonstration of fiber preparation by "Flax to Linen Victoria"\n* Make a corn husk doll\n* Pump some water at the pump station or play games and colour\n* Find "Peanut" the life size horse (not a real horse!)\n* Food prepared at the Pantry by Island Culinary Services\n* Savoury and sweet crepes from the Country Crepes food truck\n* Steamed corn on the cob from Michell Farms\n* Live music by "Cahoots" with special guests aka "Side by Side" in the picnic area 12 to 3 pm\n* Ride the model trains operated by the Vancouver Island Model Engineers

X-ALT-DESC;FMTTYPE=text/html:<!DOCTYPE HTML PUBLIC "-//W3C//DTD HTML 3.2//EN">\n<HTML>\n<HEAD>\n<META NAME="Generator" CONTENT="MS Exchange Server version 08.00.0681.000">\n<TITLE></TITLE>\n</HEAD>\n<BODY>\n<!-- Converted from text/rtf format -->\n\nA fun filled family day out at Heritage Acres!<br /><br />Adults: $5.00 per person, Kids under 12 FREE<br /><br />* Watch demonstrations of Threshing, Blacksmithing, Woodworking<br />* Watch the Steam Engines and Tractors in action<br />* Ride the People Mover (This sounds like Disney!)<br />* Check out the newly refurbished Sawmill<br />* Visit the Chapel, Pioneer Log House, The Michell Museum, Newman Boat House, 1913 Saanichton <br />   School House, Hatch Streetcar barn, and the 1859 prefabricated Moody House<br />* Watch a demonstration of fiber preparation by "Flax to Linen Victoria"<br />* Make a corn husk doll<br />* Pump some water at the pump station or play games and colour<br />* Find "Peanut" the life size horse (not a real horse!)<br />* Food prepared at the Pantry by Island Culinary Services<br />* Savoury and sweet crepes from the Country Crepes food truck<br />* Steamed corn on the cob from Michell Farms<br />* Live music by "Cahoots" with special guests aka "Side by Side" in the picnic area 12 to 3 pm<br />* Ride the model trains operated by the Vancouver Island Model Engineers\n\n</BODY>\n</HTML>

LOCATION:7321 Lochside Dr, Saanichton, BC V8M 1W4, Canada
END:VEVENT

END:VCALENDAR
