BEGIN:VCALENDAR
VERSION:2.0
PRODID:-//hacksw/handcal//NONSGML v1.0//EN
BEGIN:VEVENT
UID:5c7d81bb15ff7d503e366a80c40b5a33
DTSTAMP:20260425T211616Z

DTSTART:20230811T180000
DTEND:20230813T220000
SUMMARY:Taste of the Danforth festival in Toronto, Ontario
DESCRIPTION:Come For The Food, Stay For The Fun! A Celebration of Taste and Culture.\n\nJoin us for an unforgettable weekend brimming with delectable cuisine and entertainment. Immerse yourself in a vibrant celebration of the diverse cultures that thrive along the Danforth, where you can savour a culinary journey unlike any other. From savoury street eats to delicious dessert creations, our festival promises to be a delight for all! \n\nBut Taste of the Danforth isn’t just about food—it’s an experience for the entire family! Join us for a festival that showcases the fusion of flavours and cultures of our beloved Danforth businesses. 

X-ALT-DESC;FMTTYPE=text/html:<!DOCTYPE HTML PUBLIC "-//W3C//DTD HTML 3.2//EN">\n<HTML>\n<HEAD>\n<META NAME="Generator" CONTENT="MS Exchange Server version 08.00.0681.000">\n<TITLE></TITLE>\n</HEAD>\n<BODY>\n<!-- Converted from text/rtf format -->\n\nCome For The Food, Stay For The Fun! A Celebration of Taste and Culture.<br /><br />Join us for an unforgettable weekend brimming with delectable cuisine and entertainment. Immerse yourself in a vibrant celebration of the diverse cultures that thrive along the Danforth, where you can savour a culinary journey unlike any other. From savoury street eats to delicious dessert creations, our festival promises to be a delight for all! <br /><br />But Taste of the Danforth isn’t just about food—it’s an experience for the entire family! Join us for a festival that showcases the fusion of flavours and cultures of our beloved Danforth businesses. \n\n</BODY>\n</HTML>

LOCATION:Greektown, Toronto, ON, Canada
END:VEVENT

END:VCALENDAR
