BEGIN:VCALENDAR
VERSION:2.0
PRODID:-//hacksw/handcal//NONSGML v1.0//EN
BEGIN:VEVENT
UID:f77b2d51880e5c5f709b337ac587a318
DTSTAMP:20260425T123700Z

DTSTART:20230722T090000
DTEND:20230723T180000
SUMMARY:Fun Philippines Street Festival 2023 in Toronto, Ontario
DESCRIPTION:Fun Philippines in Toronto, Ontario is an event open to the public that celebrates Filipino culture through food, entertainment, and massive gatherings. \n\nFun Philippines aims to spread cultural education through fun programs and installations. There will be  fun and exciting activities at the event that will engage attendees and keep them entertained throughout the festival. The event will feature more than just food stands. This event benefits the community, Ontario as a whole, and the country's efforts to revitalize its economy.\n\nWe invite you to join us for this special event and make the most of your weekend by learning about different foods and cultural traditions.

X-ALT-DESC;FMTTYPE=text/html:<!DOCTYPE HTML PUBLIC "-//W3C//DTD HTML 3.2//EN">\n<HTML>\n<HEAD>\n<META NAME="Generator" CONTENT="MS Exchange Server version 08.00.0681.000">\n<TITLE></TITLE>\n</HEAD>\n<BODY>\n<!-- Converted from text/rtf format -->\n\nFun Philippines in Toronto, Ontario is an event open to the public that celebrates Filipino culture through food, entertainment, and massive gatherings. <br /><br />Fun Philippines aims to spread cultural education through fun programs and installations. There will be  fun and exciting activities at the event that will engage attendees and keep them entertained throughout the festival. The event will feature more than just food stands. This event benefits the community, Ontario as a whole, and the country's efforts to revitalize its economy.<br /><br />We invite you to join us for this special event and make the most of your weekend by learning about different foods and cultural traditions.\n\n</BODY>\n</HTML>

LOCATION:3768 Bathurst St, North York, ON M3H 3M7, Canada
END:VEVENT

END:VCALENDAR
