BEGIN:VCALENDAR
VERSION:2.0
PRODID:-//hacksw/handcal//NONSGML v1.0//EN
BEGIN:VEVENT
UID:cebbb8c5ede9fb61bbbea2d835634432
DTSTAMP:20260420T030734Z

DTSTART:20230708T120000
DTEND:20230709T203000
SUMMARY:Salsa on St. Clair 2023 in Toronto, Canada
DESCRIPTION:The annual FREE TD Salsa on St. Clair Street Festival takes over midtown Toronto transforming a stretch of St. Clair Avenue West (from Winona Dr. to Christie St.) into Canada’s biggest salsa party featuring an international calibre of Latin music, non-stop dancing in the streets, Latin foods and fun for the entire family! What started as a local two-day event in 2005, has grown into a nationally recognized annual celebration that attracts hundreds of thousands of salsa lovers from near and far.

X-ALT-DESC;FMTTYPE=text/html:<!DOCTYPE HTML PUBLIC "-//W3C//DTD HTML 3.2//EN">\n<HTML>\n<HEAD>\n<META NAME="Generator" CONTENT="MS Exchange Server version 08.00.0681.000">\n<TITLE></TITLE>\n</HEAD>\n<BODY>\n<!-- Converted from text/rtf format -->\n\nThe annual FREE TD Salsa on St. Clair Street Festival takes over midtown Toronto transforming a stretch of St. Clair Avenue West (from Winona Dr. to Christie St.) into Canada’s biggest salsa party featuring an international calibre of Latin music, non-stop dancing in the streets, Latin foods and fun for the entire family! What started as a local two-day event in 2005, has grown into a nationally recognized annual celebration that attracts hundreds of thousands of salsa lovers from near and far.\n\n</BODY>\n</HTML>

LOCATION:863 St Clair Ave W, Toronto, ON M6C 1C4, Canada
END:VEVENT

END:VCALENDAR
