BEGIN:VCALENDAR
VERSION:2.0
PRODID:-//hacksw/handcal//NONSGML v1.0//EN
BEGIN:VEVENT
UID:bff6b19cefd49eba49f888dd2fadcefd
DTSTAMP:20260422T131025Z

DTSTART:20230729T130000
DTEND:20230729T200000
SUMMARY:2023 Eats & Beats Beach Party, Colwood BC
DESCRIPTION:2023 Eats & Beats Beach Party \n\nHead to Royal Beach in Colwood, BC, on the ancestral land of the Lekwungen speaking people on Saturday, July 29, 2023, from 1 pm until 8 pm for the Royal Beach Eats & Beats Beach Party! It's live music all day with a food truck festival, a craft beer garden, a street market, a climbing wall, paddling, cycling and more!\n\nCelebrating summer with FREE fun on the street, sand, and sea.\n\nEats\nSample international flavours from more than a dozen favourite food trucks, enjoy an ice-cold beer or cider from the Victoria Beer Society beachside beer service and wander the beach street market for unique local treasures you'll only find on the island.\n\nBeats\nWatch for an amazing line up of five talented local bands, along with performances by the Lekwungen Dancers and Funkaometry the Island dance duo.\n\nBeach\nTry out a kayak or stand-up paddle board, go for a spin on an e-bike and grab some friends for beach games.\n\nTransportation\nWith two Eats & Beats shuttle buses (leaving from Royal Bay school), bike parking, and free parking all along the lagoon, there are many ways to get to Eats and Beats!

X-ALT-DESC;FMTTYPE=text/html:<!DOCTYPE HTML PUBLIC "-//W3C//DTD HTML 3.2//EN">\n<HTML>\n<HEAD>\n<META NAME="Generator" CONTENT="MS Exchange Server version 08.00.0681.000">\n<TITLE></TITLE>\n</HEAD>\n<BODY>\n<!-- Converted from text/rtf format -->\n\n2023 Eats & Beats Beach Party <br /><br />Head to Royal Beach in Colwood, BC, on the ancestral land of the Lekwungen speaking people on Saturday, July 29, 2023, from 1 pm until 8 pm for the Royal Beach Eats & Beats Beach Party! It's live music all day with a food truck festival, a craft beer garden, a street market, a climbing wall, paddling, cycling and more!<br /><br />Celebrating summer with FREE fun on the street, sand, and sea.<br /><br />Eats<br />Sample international flavours from more than a dozen favourite food trucks, enjoy an ice-cold beer or cider from the Victoria Beer Society beachside beer service and wander the beach street market for unique local treasures you'll only find on the island.<br /><br />Beats<br />Watch for an amazing line up of five talented local bands, along with performances by the Lekwungen Dancers and Funkaometry the Island dance duo.<br /><br />Beach<br />Try out a kayak or stand-up paddle board, go for a spin on an e-bike and grab some friends for beach games.<br /><br />Transportation<br />With two Eats & Beats shuttle buses (leaving from Royal Bay school), bike parking, and free parking all along the lagoon, there are many ways to get to Eats and Beats!\n\n</BODY>\n</HTML>

LOCATION:3483 Metchosin Rd, Victoria, BC V9C 2B1, Canada
END:VEVENT

END:VCALENDAR
