BEGIN:VCALENDAR
VERSION:2.0
PRODID:-//hacksw/handcal//NONSGML v1.0//EN
BEGIN:VEVENT
UID:cd6a214b9e10f4efa1d3d8b7ece0b32f
DTSTAMP:20260422T072727Z

DTSTART:20230707T100000
DTEND:20230709T170000
SUMMARY:Toronto Outdoor Art Fair 2023
DESCRIPTION:The 62nd Toronto Outdoor Art Fair is an abundant and elevated one — buzzing with art for all.\n\nJoin us for a great weekend of art collecting and artist discovery, installations, guided tours, soulful kids programs, live painting, and a brand new site-specific dance.\n\nTake a break in our unique cascading Beer Garden, sip on an exclusive craft beer and let the sound of live music fill your souls.

X-ALT-DESC;FMTTYPE=text/html:<!DOCTYPE HTML PUBLIC "-//W3C//DTD HTML 3.2//EN">\n<HTML>\n<HEAD>\n<META NAME="Generator" CONTENT="MS Exchange Server version 08.00.0681.000">\n<TITLE></TITLE>\n</HEAD>\n<BODY>\n<!-- Converted from text/rtf format -->\n\nThe 62nd Toronto Outdoor Art Fair is an abundant and elevated one — buzzing with art for all.<br /><br />Join us for a great weekend of art collecting and artist discovery, installations, guided tours, soulful kids programs, live painting, and a brand new site-specific dance.<br /><br />Take a break in our unique cascading Beer Garden, sip on an exclusive craft beer and let the sound of live music fill your souls.\n\n</BODY>\n</HTML>

LOCATION:100 Queen St W, Toronto, ON M5H 2N1, Canada
END:VEVENT

END:VCALENDAR
