BEGIN:VCALENDAR
VERSION:2.0
PRODID:-//hacksw/handcal//NONSGML v1.0//EN
BEGIN:VEVENT
UID:2f4e9494ff56159b6cafa5a22546df23
DTSTAMP:20260422T045041Z

DTSTART:20230826T120000
DTEND:20230827T170000
SUMMARY:Yorkville Murals Festival 2023 in Toronto, Canada
DESCRIPTION:Immerse Yourself in a Captivating Celebration of Art and Culture at Yorkville Murals 2023!\n\nToronto’s most captivating art and muralism festival returns August 26-27th with a brand new theme titled, No Empty Spaces. Celebrating its fifth year of the festival, Yorkville Murals will transform the street into a cultural extravaganza, where visitors will be entertained with every step. On Yorkville Avenue from Bellair Street to Hazelton Avenue, Yorkville Murals will deliver participatory entertainment and play. Through captivating murals, inflatables, art installations, live painting, art talks, music, dance battles, pop-up shops and an evening block party, culture lovers will want to come back daily to experience the fun.\n\nThe event is presented by Taglialatella Galleries and INK Entertainment, and organized in partnership with the Bloor-Yorkville Business Improvement Area. YVM builds on Yorkville’s reputation as a historic enclave of Toronto’s early twentieth-century art scene. The event has been designed as a safe, self-guided experience in the heart of Toronto.

X-ALT-DESC;FMTTYPE=text/html:<!DOCTYPE HTML PUBLIC "-//W3C//DTD HTML 3.2//EN">\n<HTML>\n<HEAD>\n<META NAME="Generator" CONTENT="MS Exchange Server version 08.00.0681.000">\n<TITLE></TITLE>\n</HEAD>\n<BODY>\n<!-- Converted from text/rtf format -->\n\nImmerse Yourself in a Captivating Celebration of Art and Culture at Yorkville Murals 2023!<br /><br />Toronto’s most captivating art and muralism festival returns August 26-27th with a brand new theme titled, No Empty Spaces. Celebrating its fifth year of the festival, Yorkville Murals will transform the street into a cultural extravaganza, where visitors will be entertained with every step. On Yorkville Avenue from Bellair Street to Hazelton Avenue, Yorkville Murals will deliver participatory entertainment and play. Through captivating murals, inflatables, art installations, live painting, art talks, music, dance battles, pop-up shops and an evening block party, culture lovers will want to come back daily to experience the fun.<br /><br />The event is presented by Taglialatella Galleries and INK Entertainment, and organized in partnership with the Bloor-Yorkville Business Improvement Area. YVM builds on Yorkville’s reputation as a historic enclave of Toronto’s early twentieth-century art scene. The event has been designed as a safe, self-guided experience in the heart of Toronto.\n\n</BODY>\n</HTML>

LOCATION:Yorkville, Toronto, ON, Canada
END:VEVENT

END:VCALENDAR
