BEGIN:VCALENDAR
VERSION:2.0
PRODID:-//hacksw/handcal//NONSGML v1.0//EN
BEGIN:VEVENT
UID:dcd6b49e184caa897492b31d2348f014
DTSTAMP:20260423T102312Z

DTSTART:20230625T140000
DTEND:20230625T190000
SUMMARY:Pride Parade 2023 in Toronto, Canada
DESCRIPTION:We’re here, we’re there, we’re everywhere!\n\nIt’s that time again! Time to celebrate who you are, with your community, at Pride Toronto’s 2023 Pride Parade. This impactful Festival weekend is a time for us to come together to not only celebrate how far we’ve come, but to also show the world that we’re here and our lives matter. With 100+ groups marching this year we’re grateful to see how much support our community has gained. From glittery costumes and drag queens, to dynamic performances and good music to get you dancing, we’re sure to make your 2023 Pride experience both exciting and memorable.\n\nWe offer 6 accessible risers/viewing stations alongside our Parade route. Please take note of the intersections below:\n\nSt. Mary’s St. & Yonge St. – accessible riser\nIsabella St. & Yonge St. – accessible riser\nBreadalbane St. & Yonge St. – accessible riser\nWood St. & Yonge St. – accessible riser\nElm St. & Yonge St. – accessible riser\nEdward St. & Yonge St. – viewing station (ground level)\n \nWe will also have free water being offered at the above mentioned intersections alongside Carlton St. & Yonge St.\n\nPlease remember to stay hydrated and plan ahead to bring anything necessary to keep you comfortable in the summer sun. Please bring water, sunscreen and food to get you through the day as you experience one of the biggest North American Pride Parades.\n\nJoin us at the corner of Church St N and Bloor St E at 2pm to kick off Canada’s largest Pride Parade. Follow us southbound along Yonge St, with us turning RIGHT this year on Dundas St. W. Folks can make their way straight to NPS off of Bay St. where the festivities continue for the remainder of the night. We’re looking forward to you joining us at our new ending point at Nathan Phillips Square where our NEW Main Stage and Beer garden will be. We can’t wait to celebrate Pride with you!

X-ALT-DESC;FMTTYPE=text/html:<!DOCTYPE HTML PUBLIC "-//W3C//DTD HTML 3.2//EN">\n<HTML>\n<HEAD>\n<META NAME="Generator" CONTENT="MS Exchange Server version 08.00.0681.000">\n<TITLE></TITLE>\n</HEAD>\n<BODY>\n<!-- Converted from text/rtf format -->\n\nWe’re here, we’re there, we’re everywhere!<br /><br />It’s that time again! Time to celebrate who you are, with your community, at Pride Toronto’s 2023 Pride Parade. This impactful Festival weekend is a time for us to come together to not only celebrate how far we’ve come, but to also show the world that we’re here and our lives matter. With 100+ groups marching this year we’re grateful to see how much support our community has gained. From glittery costumes and drag queens, to dynamic performances and good music to get you dancing, we’re sure to make your 2023 Pride experience both exciting and memorable.<br /><br />We offer 6 accessible risers/viewing stations alongside our Parade route. Please take note of the intersections below:<br /><br />St. Mary’s St. & Yonge St. – accessible riser<br />Isabella St. & Yonge St. – accessible riser<br />Breadalbane St. & Yonge St. – accessible riser<br />Wood St. & Yonge St. – accessible riser<br />Elm St. & Yonge St. – accessible riser<br />Edward St. & Yonge St. – viewing station (ground level)<br /> <br />We will also have free water being offered at the above mentioned intersections alongside Carlton St. & Yonge St.<br /><br />Please remember to stay hydrated and plan ahead to bring anything necessary to keep you comfortable in the summer sun. Please bring water, sunscreen and food to get you through the day as you experience one of the biggest North American Pride Parades.<br /><br />Join us at the corner of Church St N and Bloor St E at 2pm to kick off Canada’s largest Pride Parade. Follow us southbound along Yonge St, with us turning RIGHT this year on Dundas St. W. Folks can make their way straight to NPS off of Bay St. where the festivities continue for the remainder of the night. We’re looking forward to you joining us at our new ending point at Nathan Phillips Square where our NEW Main Stage and Beer garden will be. We can’t wait to celebrate Pride with you!\n\n</BODY>\n</HTML>

LOCATION:Church St & Bloor St E, Toronto, ON M4W 1B7, Canada
END:VEVENT

END:VCALENDAR
