BEGIN:VCALENDAR
VERSION:2.0
PRODID:-//hacksw/handcal//NONSGML v1.0//EN
BEGIN:VEVENT
UID:9eb413e0ac980b3e7e2309f0fe22427e
DTSTAMP:20260422T033005Z

DTSTART:20230625T110000
DTEND:20230625T210000
SUMMARY:2023 Greek Day on Broadway - Vancouver BC
DESCRIPTION:One of Vancouver BC's most anticipated summer street festivals returns, Greek Day on Broadway which will take place on Sunday, June 25, 2023.\n\nGreek Day on Broadway is an annual community street festival which spans five blocks from MacDonald to Blenheim Street in Vancouver's Kitsilano neighbourhood in the heart of Vancouver's Greektown.\n\nThis free event is the largest one-day Greek festival in Vancouver, attracting more than 100,000 people every year.\n\nThe celebration will feature a world of authentic Greek food and beverages from local shops and vendors. There will be souvlaki, spanakopita, loukoumades, and more!\n\nVisitors will also enjoy music and entertainment on the live stages throughout the day. There will also be an opportunity for a chance to win some amazing prizes so don't forget to pick up your raffle prize ticket!

X-ALT-DESC;FMTTYPE=text/html:<!DOCTYPE HTML PUBLIC "-//W3C//DTD HTML 3.2//EN">\n<HTML>\n<HEAD>\n<META NAME="Generator" CONTENT="MS Exchange Server version 08.00.0681.000">\n<TITLE></TITLE>\n</HEAD>\n<BODY>\n<!-- Converted from text/rtf format -->\n\nOne of Vancouver BC's most anticipated summer street festivals returns, Greek Day on Broadway which will take place on Sunday, June 25, 2023.<br /><br />Greek Day on Broadway is an annual community street festival which spans five blocks from MacDonald to Blenheim Street in Vancouver's Kitsilano neighbourhood in the heart of Vancouver's Greektown.<br /><br />This free event is the largest one-day Greek festival in Vancouver, attracting more than 100,000 people every year.<br /><br />The celebration will feature a world of authentic Greek food and beverages from local shops and vendors. There will be souvlaki, spanakopita, loukoumades, and more!<br /><br />Visitors will also enjoy music and entertainment on the live stages throughout the day. There will also be an opportunity for a chance to win some amazing prizes so don't forget to pick up your raffle prize ticket!\n\n</BODY>\n</HTML>

LOCATION:Blenheim St, Vancouver, BC, Canada
END:VEVENT

END:VCALENDAR
