BEGIN:VCALENDAR
VERSION:2.0
PRODID:-//hacksw/handcal//NONSGML v1.0//EN
BEGIN:VEVENT
UID:7bc7556b6431d498b7dfb5ef679f03f8
DTSTAMP:20260420T203106Z

DTSTART:20230615T113000
DTEND:20230618T180000
SUMMARY:Little Tennessee in Toronto, ON
DESCRIPTION:From Little Italy to Little Tokyo to Little Poland, Toronto is one of the most culturally diverse cities in the world. Now, it’s getting a big taste of Southern Hospitality and culture with a new, pop-up neighborhood: Little Tennessee.\n\nLittle Tennessee is a 4-day, outdoor event featuring live music, Southern food and crafted experiences all imported directly from Tennessee to Toronto. \n\nTennessee artists will be performing live on various stages throughout the festival grounds.\n\nYou’ll also get to try a whole bunch of Tennessee-themed activities, including a rock climbing wall, artisan crafts shopping, and whiskey sampling.\n\nThe best part is that admission is free!\n

X-ALT-DESC;FMTTYPE=text/html:<!DOCTYPE HTML PUBLIC "-//W3C//DTD HTML 3.2//EN">\n<HTML>\n<HEAD>\n<META NAME="Generator" CONTENT="MS Exchange Server version 08.00.0681.000">\n<TITLE></TITLE>\n</HEAD>\n<BODY>\n<!-- Converted from text/rtf format -->\n\nFrom Little Italy to Little Tokyo to Little Poland, Toronto is one of the most culturally diverse cities in the world. Now, it’s getting a big taste of Southern Hospitality and culture with a new, pop-up neighborhood: Little Tennessee.<br /><br />Little Tennessee is a 4-day, outdoor event featuring live music, Southern food and crafted experiences all imported directly from Tennessee to Toronto. <br /><br />Tennessee artists will be performing live on various stages throughout the festival grounds.<br /><br />You’ll also get to try a whole bunch of Tennessee-themed activities, including a rock climbing wall, artisan crafts shopping, and whiskey sampling.<br /><br />The best part is that admission is free!<br />\n\n</BODY>\n</HTML>

LOCATION:Liberty Village, Toronto, ON M6K, Canada
END:VEVENT

END:VCALENDAR
