BEGIN:VCALENDAR
VERSION:2.0
PRODID:-//hacksw/handcal//NONSGML v1.0//EN
BEGIN:VEVENT
UID:bf8445d4982794f8a02b5bd34049ecfa
DTSTAMP:20260423T114416Z

DTSTART:20230617T153000
DTEND:20230617T213000
SUMMARY:Lobster Boil in Bauline Canada
DESCRIPTION:Lobster Boil in Bauline Newfoundland Canada 2023\n\nThis June join the friendly folks in the Town of Bauline Newfoundland Canada for a traditional island boil up. Featuring the finest and freshest seafood straight out of the North Atlantic Ocean, the seaside event is sure to impress. In fact, NL is well known around the world for its delicious crustaceans. Foodies will love this cultural food event in a small rural town. \n\nThe event starts at 6 pm and there will also be salads and desserts provided. For those with seafood allergies there is a beef option if requested. Tickets are 50$ each and available by contacting Dianne at (709) 682-9540 or Carol at (709) 682-2734. 

X-ALT-DESC;FMTTYPE=text/html:<!DOCTYPE HTML PUBLIC "-//W3C//DTD HTML 3.2//EN">\n<HTML>\n<HEAD>\n<META NAME="Generator" CONTENT="MS Exchange Server version 08.00.0681.000">\n<TITLE></TITLE>\n</HEAD>\n<BODY>\n<!-- Converted from text/rtf format -->\n\nLobster Boil in Bauline Newfoundland Canada 2023<br /><br />This June join the friendly folks in the Town of Bauline Newfoundland Canada for a traditional island boil up. Featuring the finest and freshest seafood straight out of the North Atlantic Ocean, the seaside event is sure to impress. In fact, NL is well known around the world for its delicious crustaceans. Foodies will love this cultural food event in a small rural town. <br /><br />The event starts at 6 pm and there will also be salads and desserts provided. For those with seafood allergies there is a beef option if requested. Tickets are 50$ each and available by contacting Dianne at (709) 682-9540 or Carol at (709) 682-2734. \n\n</BODY>\n</HTML>

LOCATION:Bauline, NL A0A, Canada
END:VEVENT

END:VCALENDAR
