BEGIN:VCALENDAR
VERSION:2.0
PRODID:-//hacksw/handcal//NONSGML v1.0//EN
BEGIN:VEVENT
UID:bcbfa94dcde9e876266c7a98ab11667e
DTSTAMP:20260419T192734Z

DTSTART:20230512T150000
DTEND:20230514T210000
SUMMARY:Esquimalt Buccaneer Days Esquimalt BC
DESCRIPTION:AHOY ALL BUCCANEERS!\n\nEsquimalt Buccaneer Days will be held at Esquimalt BC's Archie Browning Sport Centre, Curling Club and Bullen Park from May 12, 2023, to May 14, 2023, 3 PM to 9 PM each day.\n\nThis is a fun community and family event with something for all ages. Over 20 community organizations take part:\n\nCome and enjoy the Midway, Pancake Breakfast,\nMarket Place, Buccaneer Dance, Community Booths & Displays, the Children's Pirate Den, Food Vendors and don't forget the Parade on Saturday Morning. The parade starts at 10 AM and travels along Esquimalt Road from Dominion at Admirals.\n\nTickets\nBuccaneer Days is free to attend, however for the Midway Carnival rides and games the price is $35 for the day for unlimited amusement park rides and fun.\n\nStepping back in time to Buccaneer Days earliest beginnings:\nIn 1939, Esquimalt began holding a May Queen celebration. this evolved into Esquimalt Days and eventually, in 1966, became Buccaneer Days. The town turned out in naval and pirate attire, vying for prizes for the best costume. The citizens of Esquimalt were also awakened at a very early hour by a loudspeaker mounted atop a van calling "Wakey, Wakey!".\n\nWhile the van loudspeaker is no more, this event has no problem in attracting the crowds!

X-ALT-DESC;FMTTYPE=text/html:<!DOCTYPE HTML PUBLIC "-//W3C//DTD HTML 3.2//EN">\n<HTML>\n<HEAD>\n<META NAME="Generator" CONTENT="MS Exchange Server version 08.00.0681.000">\n<TITLE></TITLE>\n</HEAD>\n<BODY>\n<!-- Converted from text/rtf format -->\n\nAHOY ALL BUCCANEERS!<br /><br />Esquimalt Buccaneer Days will be held at Esquimalt BC's Archie Browning Sport Centre, Curling Club and Bullen Park from May 12, 2023, to May 14, 2023, 3 PM to 9 PM each day.<br /><br />This is a fun community and family event with something for all ages. Over 20 community organizations take part:<br /><br />Come and enjoy the Midway, Pancake Breakfast,<br />Market Place, Buccaneer Dance, Community Booths & Displays, the Children's Pirate Den, Food Vendors and don't forget the Parade on Saturday Morning. The parade starts at 10 AM and travels along Esquimalt Road from Dominion at Admirals.<br /><br />Tickets<br />Buccaneer Days is free to attend, however for the Midway Carnival rides and games the price is $35 for the day for unlimited amusement park rides and fun.<br /><br />Stepping back in time to Buccaneer Days earliest beginnings:<br />In 1939, Esquimalt began holding a May Queen celebration. this evolved into Esquimalt Days and eventually, in 1966, became Buccaneer Days. The town turned out in naval and pirate attire, vying for prizes for the best costume. The citizens of Esquimalt were also awakened at a very early hour by a loudspeaker mounted atop a van calling "Wakey, Wakey!".<br /><br />While the van loudspeaker is no more, this event has no problem in attracting the crowds!\n\n</BODY>\n</HTML>

LOCATION:1151 Esquimalt Rd, Victoria, BC V9A 3N6, Canada
END:VEVENT

END:VCALENDAR
